Workbook

Sheet CE
A2: MATERIALES
A3: fck (Mpa) | B3: 25 | C3: fyk (Mpa) | D3: 500
A4: γc | B4: 1.5 | C4: γs | D4: 1.15
A5: fcd (Mpa) | B5: =B3/B4 -> 16.666667 | C5: fyd (Mpa) | D5: =IF(F5="NO",D3/D4,IF(F5="400 Mpa",MIN(D3/D4,400),MIN(0.8*D3,D3/D4))) -> 434.78261 | E5: límite máximo | F5: NO
A6: fct,m (Mpa) | B6: =0.3*B3^(2/3) -> 2.5649639
A7: αcw | B7: 1
A8: ν1 | B8: =IF(F5="0,8·fyd",0.6,0.6*(1-B3/250)) -> 0.54
A9: SECCIÓN | C9: ARMADURA TRACCIONADA
A10: b (mm) | B10: 200 | C10: n | D10: φ | E10: n | F10: φ | G10: Asl (mm2) | H10: ρl | I10: k
A11: d (mm) | B11: 250 | C11: 4 | D11: 16 | E11: 0 | F11: 20 | G11: =C11*D11^2*PI()*0.25+E11*F11^2*PI()*0.25 -> 804.24772 | H11: =MIN(G11/(D12*B11),0.02) -> 0.016084954 | I11: =MIN(1+(200/B11)^0.5,2) -> 1.8944272
A12: ancho de pilar (mm) | B12: 300 | C12: bw (mm) | D12: =MIN(B10,B12+2*B11) -> 200
A13: ELEMENTOS SIN ARMADURA DE CORTANTE | D13: ELEMENTOS CON ARMADURA DE CORTANTE
A14: CRd,c | B14: vmin | D14: α | E14: 90
A15: =0.18/B4 -> 0.12 | B15: =0.035*I11^1.5*B3^0.5 -> 0.45630468 | D15: RAMAS EN LA VIGA
D16: n | E16: φ | F16: S | G16: Asw | H16: ρw
D17: 3 | E17: 8 | F17: 100 | G17: =D17*E17^2*PI()*0.25 -> 150.79645 | H17: =G17/(F17*D12*SIN(E14*PI()/180)) -> 0.0075398224
D18: ST,trans MAX | F18: St,MAX | G18: ρw,MIN
D19: =FLOOR(MIN(0.75*B11,600),1) -> 187 | F19: =FLOOR(0.75*B11+(1+1/TAN(E14*PI()/180)),1) -> 188 | G19: =0.08*(B3)^0.5/D3 -> 0.0008
D20: =IF(F17>F19,"NO CUMPLE DISTANCIA MÁXIMA LONGITUDINAL","-") -> -
D21: =IF((D12-40)/(D17-1)>D19,"NO CUMPLE DISTANCIA MÁXIMA TRANSVERSAL","-") -> -
D22: =IF(H17<G19,"NO CUMPLE CUANTÍA MÍNIMA","-") -> -
I31: EHE
I32: Vsu+Vcu | J32: Vsu | K32: Vcu
I33: Vu1 | K33: τVcu | L33: ξ
I34: Vu2 | J34: τVu2,1 | K34: τVu2,2 | L34: =MIN(1+(200/B11)^0.5,2) -> 1.8944272
B35: GRADOS | C35: RADIANES | F35: CE/EHE | L35: cotθ | M35: cotθe | N35: β | O35: DECALAJE RESPECTO d
A36: α | B36: =E14 -> 90 | C36: =B36*PI()/180 -> 1.5707963 | D36: VRd,s (kN) | E36: =$G$17*0.9*$B$11*$D$5*(1/TAN(C37))/$F$17/1000 -> 295.87586 | F36: =E36/$I$48 -> 1.7579221 | G36: VRd,c1 | H36: =($A$15*$I$11*(100*$H$11*$B$3)^(1/3))*$D$12*$B$11/1000 -> 38.941779 | I36: =J36+K36 -> 304.79899 | J36: =0.9*$B$11*SIN(C36)*(1/TAN(C36)+1/TAN(C37))*$G$17*MIN($D$5,400)/$F$17/1000 -> 272.20579 | K36: =MAX(K37*$D$12*$B$11*N38/1000,K38*$D$12*$B$11/1000) -> 32.593192 | N36: =(2*L37-1)/(2*M37-1) -> 3.0113794 | O36: =0.9*0.5*(L37-1/TAN(C36)) -> 0.90256037
A37: θ | B37: 26.5 | C37: =B37*PI()/180 -> 0.46251225 | D37: VRd,max (kN) | E37: =$B$7*$D$12*0.9*$B$11*$B$8*$B$5/(L37+TAN(C37))/1000 -> 161.72369 | F37: =E37/$I$49 -> 0.64689476 | G37: VRd,c2 | H37: =$B$15*$D$12*$B$11/1000 -> 22.815234 | I37: =0.6*$B$5*$D$12*$B$11*(L37+1/TAN(C36))/(1+L37^2)/1000 -> 199.65888 | K37: =0.15*$L$34*(100*$H$11*$B$3)^(1/3)*N36/$B$4 -> 1.9544745 | L37: =1/TAN(C37) -> 2.0056897 | M37: 1 | N37: =MIN((L37-2)/(M37-2),2) -> -0.0056897083
D38: VRd,c (kN) | E38: =MAX(H36:H37) -> 38.941779 | F38: =E38/$I$50 -> 1 | I38: =MAX(J38:K38)*$D$12*$B$11/1000 -> 38.941779 | J38: =0.18*$L$34*(100*$H$11*$B$3)^(1/3)/$B$4 -> 0.77883557 | K38: =0.075*$L$34^1.5*$B$3^0.5/$B$4 -> 0.65186383 | N38: =IF(L37>=M37,MAX(N37,0),N36) -> 0
A39: α | B39: =B36 -> 90 | C39: =B39*PI()/180 -> 1.5707963 | D39: VRd,s (kN) | E39: =$G$17*0.9*$B$11*$D$5*(1/TAN(C40))/$F$17/1000 -> 255.50913 | F39: =E39/$I$48 -> 1.5180865 | G39: VRd,c1 | H39: =($A$15*$I$11*(100*$H$11*$B$3)^(1/3))*$D$12*$B$11/1000 -> 38.941779 | I39: =J39+K39 -> 267.66159 | J39: =0.9*$B$11*SIN(C39)*(1/TAN(C39)+1/TAN(C40))*$G$17*MIN($D$5,400)/$F$17/1000 -> 235.0684 | K39: =MAX(K40*$D$12*$B$11*N41/1000,K41*$D$12*$B$11/1000) -> 32.593192 | N39: =(2*L40-1)/(2*M40-1) -> 2.4641016 | O39: =0.9*0.5*(L40-1/TAN(C39)) -> 0.77942286
A40: θ | B40: 30 | C40: =B40*PI()/180 -> 0.52359878 | D40: VRd,max (kN) | E40: =$B$7*$D$12*0.9*$B$11*$B$8*$B$5/(L40+TAN(C40))/1000 -> 175.37014 | F40: =E40/$I$49 -> 0.70148058 | G40: VRd,c2 | H40: =$B$15*$D$12*$B$11/1000 -> 22.815234 | I40: =0.6*$B$5*$D$12*$B$11*(L40+1/TAN(C39))/(1+L40^2)/1000 -> 216.50635 | K40: =0.15*$L$34*(100*$H$11*$B$3)^(1/3)*N39/$B$4 -> 1.599275 | L40: =1/TAN(C40) -> 1.7320508 | M40: 1 | N40: =MIN((L40-2)/(M40-2),2) -> 0.26794919
D41: VRd,c (kN) | E41: =MAX(H39:H40) -> 38.941779 | F41: =E41/$I$50 -> 1 | I41: =MAX(J41:K41)*$D$12*$B$11/1000 -> 38.941779 | J41: =0.18*$L$34*(100*$H$11*$B$3)^(1/3)/$B$4 -> 0.77883557 | K41: =0.075*$L$34^1.5*$B$3^0.5/$B$4 -> 0.65186383 | N41: =IF(L40>=M40,MAX(N40,0),N39) -> 0.26794919
A42: α | B42: =B39 -> 90 | C42: =B42*PI()/180 -> 1.5707963 | D42: VRd,s (kN) | E42: =$G$17*0.9*$B$11*$D$5*(1/TAN(C43))/$F$17/1000 -> 210.67791 | F42: =E42/$I$48 -> 1.2517255 | G42: VRd,c1 | H42: =($A$15*$I$11*(100*$H$11*$B$3)^(1/3))*$D$12*$B$11/1000 -> 38.941779 | I42: =J42+K42 -> 228.27179 | J42: =0.9*$B$11*SIN(C42)*(1/TAN(C42)+1/TAN(C43))*$G$17*MIN($D$5,400)/$F$17/1000 -> 193.82368 | K42: =MAX(K43*$D$12*$B$11*N44/1000,K44*$D$12*$B$11/1000) -> 34.448111 | N42: =(2*L43-1)/(2*M43-1) -> 1.856296 | O42: =0.9*0.5*(L43-1/TAN(C42)) -> 0.6426666
A43: θ | B43: 35 | C43: =B43*PI()/180 -> 0.61086524 | D43: VRd,max (kN) | E43: =$B$7*$D$12*0.9*$B$11*$B$8*$B$5/(L43+TAN(C43))/1000 -> 190.28776 | F43: =E43/$I$49 -> 0.76115102 | G43: VRd,c2 | H43: =$B$15*$D$12*$B$11/1000 -> 22.815234 | I43: =0.6*$B$5*$D$12*$B$11*(L43+1/TAN(C42))/(1+L43^2)/1000 -> 234.92316 | K43: =0.15*$L$34*(100*$H$11*$B$3)^(1/3)*N42/$B$4 -> 1.2047911 | L43: =1/TAN(C43) -> 1.428148 | M43: 1 | N43: =MIN((L43-2)/(M43-2),2) -> 0.57185199
D44: VRd,c (kN) | E44: =MAX(H42:H43) -> 38.941779 | F44: =E44/$I$50 -> 1 | I44: =MAX(J44:K44)*$D$12*$B$11/1000 -> 38.941779 | J44: =0.18*$L$34*(100*$H$11*$B$3)^(1/3)/$B$4 -> 0.77883557 | K44: =0.075*$L$34^1.5*$B$3^0.5/$B$4 -> 0.65186383 | N44: =IF(L43>=M43,MAX(N43,0),N42) -> 0.57185199
A45: α | B45: =B42 -> 90 | C45: =B45*PI()/180 -> 1.5707963 | D45: VRd,s (kN) | E45: =$G$17*0.9*$B$11*$D$5*(1/TAN(C46))/$F$17/1000 -> 175.80542 | F45: =E45/$I$48 -> 1.0445335 | G45: VRd,c1 | H45: =($A$15*$I$11*(100*$H$11*$B$3)^(1/3))*$D$12*$B$11/1000 -> 38.941779 | I45: =J45+K45 -> 198.02871 | J45: =0.9*$B$11*SIN(C45)*(1/TAN(C45)+1/TAN(C46))*$G$17*MIN($D$5,400)/$F$17/1000 -> 161.74099 | K45: =MAX(K46*$D$12*$B$11*N47/1000,K47*$D$12*$B$11/1000) -> 36.287725 | N45: =(2*L46-1)/(2*M46-1) -> 1.3835072 | O45: =0.9*0.5*(L46-1/TAN(C45)) -> 0.53628912
A46: θ | B46: 40 | C46: =B46*PI()/180 -> 0.6981317 | D46: VRd,max (kN) | E46: =$B$7*$D$12*0.9*$B$11*$B$8*$B$5/(L46+TAN(C46))/1000 -> 199.42357 | F46: =E46/$I$49 -> 0.79769428 | G46: VRd,c2 | H46: =$B$15*$D$12*$B$11/1000 -> 22.815234 | I46: =0.6*$B$5*$D$12*$B$11*(L46+1/TAN(C45))/(1+L46^2)/1000 -> 246.20194 | K46: =0.15*$L$34*(100*$H$11*$B$3)^(1/3)*N45/$B$4 -> 0.89793717 | L46: =1/TAN(C46) -> 1.1917536 | M46: 1 | N46: =MIN((L46-2)/(M46-2),2) -> 0.80824641
D47: VRd,c (kN) | E47: =MAX(H45:H46) -> 38.941779 | F47: =E47/$I$50 -> 1 | I47: =MAX(J47:K47)*$D$12*$B$11/1000 -> 38.941779 | J47: =0.18*$L$34*(100*$H$11*$B$3)^(1/3)/$B$4 -> 0.77883557 | K47: =0.075*$L$34^1.5*$B$3^0.5/$B$4 -> 0.65186383 | N47: =IF(L46>=M46,MAX(N46,0),N45) -> 0.80824641
A48: α | B48: =B45 -> 90 | C48: =B48*PI()/180 -> 1.5707963 | D48: VRd,s (kN) | E48: =$G$17*0.9*$B$11*$D$5*(1/TAN(C49))/$F$17/1000 -> 147.51826 | F48: =E48/$I$48 -> 0.87646764 | G48: VRd,c1 | H48: =($A$15*$I$11*(100*$H$11*$B$3)^(1/3))*$D$12*$B$11/1000 -> 38.941779 | I48: =J48+K48 -> 168.30999 | J48: =0.9*$B$11*SIN(C48)*(1/TAN(C48)+1/TAN(C49))*$G$17*MIN($D$5,400)/$F$17/1000 -> 135.7168 | K48: =MAX(K49*$D$12*$B$11*N50/1000,K50*$D$12*$B$11/1000) -> 32.593192 | N48: =(2*L49-1)/(2*M49-1) -> 1 | O48: =0.9*0.5*(L49-1/TAN(C48)) -> 0.45
A49: θ | B49: 45 | C49: =B49*PI()/180 -> 0.78539816 | D49: VRd,max (kN) | E49: =$B$7*$D$12*0.9*$B$11*$B$8*$B$5/(L49+TAN(C49))/1000 -> 202.5 | F49: =E49/$I$49 -> 0.81 | G49: VRd,c2 | H49: =$B$15*$D$12*$B$11/1000 -> 22.815234 | I49: =0.6*$B$5*$D$12*$B$11*(L49+1/TAN(C48))/(1+L49^2)/1000 -> 250 | K49: =0.15*$L$34*(100*$H$11*$B$3)^(1/3)*N48/$B$4 -> 0.64902964 | L49: =1/TAN(C49) -> 1 | M49: 1 | N49: =MIN((L49-2)/(M49-2),2) -> 1
D50: VRd,c (kN) | E50: =MAX(H48:H49) -> 38.941779 | F50: =E50/$I$50 -> 1 | I50: =MAX(J50:K50)*$D$12*$B$11/1000 -> 38.941779 | J50: =0.18*$L$34*(100*$H$11*$B$3)^(1/3)/$B$4 -> 0.77883557 | K50: =0.075*$L$34^1.5*$B$3^0.5/$B$4 -> 0.65186383 | N50: =IF(L49>=M49,MAX(N49,0),N48) -> 1
A51: α | B51: =B48 -> 90 | C51: =B51*PI()/180 -> 1.5707963 | D51: VRd,s (kN) | E51: =$G$17*0.9*$B$11*$D$5*(1/TAN(C52))/$F$17/1000 -> 123.78252 | F51: =E51/$I$48 -> 0.73544367 | G51: VRd,c1 | H51: =($A$15*$I$11*(100*$H$11*$B$3)^(1/3))*$D$12*$B$11/1000 -> 38.941779 | I51: =J51+K51 -> 146.47311 | J51: =0.9*$B$11*SIN(C51)*(1/TAN(C51)+1/TAN(C52))*$G$17*MIN($D$5,400)/$F$17/1000 -> 113.87992 | K51: =MAX(K52*$D$12*$B$11*N53/1000,K53*$D$12*$B$11/1000) -> 32.593192 | N51: =(2*L52-1)/(2*M52-1) -> 0.67819926 | O51: =0.9*0.5*(L52-1/TAN(C51)) -> 0.37759483
A52: θ | B52: 50 | C52: =B52*PI()/180 -> 0.87266463 | D52: VRd,max (kN) | E52: =$B$7*$D$12*0.9*$B$11*$B$8*$B$5/(L52+TAN(C52))/1000 -> 199.42357 | F52: =E52/$I$49 -> 0.79769428 | G52: VRd,c2 | H52: =$B$15*$D$12*$B$11/1000 -> 22.815234 | I52: =0.6*$B$5*$D$12*$B$11*(L52+1/TAN(C51))/(1+L52^2)/1000 -> 246.20194 | K52: =0.15*$L$34*(100*$H$11*$B$3)^(1/3)*N51/$B$4 -> 0.44017143 | L52: =1/TAN(C52) -> 0.83909963 | M52: 1 | N52: =MIN((L52-2)/(M52-2),2) -> 1.1609004
D53: VRd,c (kN) | E53: =MAX(H51:H52) -> 38.941779 | F53: =E53/$I$50 -> 1 | I53: =MAX(J53:K53)*$D$12*$B$11/1000 -> 38.941779 | J53: =0.18*$L$34*(100*$H$11*$B$3)^(1/3)/$B$4 -> 0.77883557 | K53: =0.075*$L$34^1.5*$B$3^0.5/$B$4 -> 0.65186383 | N53: =IF(L52>=M52,MAX(N52,0),N51) -> 0.67819926
A54: α | B54: =B51 -> 90 | C54: =B54*PI()/180 -> 1.5707963 | D54: VRd,s (kN) | E54: =$G$17*0.9*$B$11*$D$5*(1/TAN(C55))/$F$17/1000 -> 103.2934 | F54: =E54/$I$48 -> 0.61370925 | G54: VRd,c1 | H54: =($A$15*$I$11*(100*$H$11*$B$3)^(1/3))*$D$12*$B$11/1000 -> 38.941779 | I54: =J54+K54 -> 127.62312 | J54: =0.9*$B$11*SIN(C54)*(1/TAN(C54)+1/TAN(C55))*$G$17*MIN($D$5,400)/$F$17/1000 -> 95.029928 | K54: =MAX(K55*$D$12*$B$11*N56/1000,K56*$D$12*$B$11/1000) -> 32.593192 | N54: =(2*L55-1)/(2*M55-1) -> 0.40041508 | O54: =0.9*0.5*(L55-1/TAN(C54)) -> 0.31509339
A55: θ | B55: 55 | C55: =B55*PI()/180 -> 0.95993109 | D55: VRd,max (kN) | E55: =$B$7*$D$12*0.9*$B$11*$B$8*$B$5/(L55+TAN(C55))/1000 -> 190.28776 | F55: =E55/$I$49 -> 0.76115102 | G55: VRd,c2 | H55: =$B$15*$D$12*$B$11/1000 -> 22.815234 | I55: =0.6*$B$5*$D$12*$B$11*(L55+1/TAN(C54))/(1+L55^2)/1000 -> 234.92316 | K55: =0.15*$L$34*(100*$H$11*$B$3)^(1/3)*N54/$B$4 -> 0.25988125 | L55: =1/TAN(C55) -> 0.70020754 | M55: 1 | N55: =MIN((L55-2)/(M55-2),2) -> 1.2997925
D56: VRd,c (kN) | E56: =MAX(H54:H55) -> 38.941779 | F56: =E56/$I$50 -> 1 | I56: =MAX(J56:K56)*$D$12*$B$11/1000 -> 38.941779 | J56: =0.18*$L$34*(100*$H$11*$B$3)^(1/3)/$B$4 -> 0.77883557 | K56: =0.075*$L$34^1.5*$B$3^0.5/$B$4 -> 0.65186383 | N56: =IF(L55>=M55,MAX(N55,0),N54) -> 0.40041508
A57: α | B57: =B54 -> 90 | C57: =B57*PI()/180 -> 1.5707963 | D57: VRd,s (kN) | E57: =$G$17*0.9*$B$11*$D$5*(1/TAN(C58))/$F$17/1000 -> 85.169709 | F57: =E57/$I$48 -> 0.50602883 | G57: VRd,c1 | H57: =($A$15*$I$11*(100*$H$11*$B$3)^(1/3))*$D$12*$B$11/1000 -> 38.941779 | I57: =J57+K57 -> 110.94932 | J57: =0.9*$B$11*SIN(C57)*(1/TAN(C57)+1/TAN(C58))*$G$17*MIN($D$5,400)/$F$17/1000 -> 78.356133 | K57: =MAX(K58*$D$12*$B$11*N59/1000,K59*$D$12*$B$11/1000) -> 32.593192 | N57: =(2*L58-1)/(2*M58-1) -> 0.15470054 | O57: =0.9*0.5*(L58-1/TAN(C57)) -> 0.25980762
A58: θ | B58: 60 | C58: =B58*PI()/180 -> 1.0471976 | D58: VRd,max (kN) | E58: =$B$7*$D$12*0.9*$B$11*$B$8*$B$5/(L58+TAN(C58))/1000 -> 175.37014 | F58: =E58/$I$49 -> 0.70148058 | G58: VRd,c2 | H58: =$B$15*$D$12*$B$11/1000 -> 22.815234 | I58: =0.6*$B$5*$D$12*$B$11*(L58+1/TAN(C57))/(1+L58^2)/1000 -> 216.50635 | K58: =0.15*$L$34*(100*$H$11*$B$3)^(1/3)*N57/$B$4 -> 0.10040524 | L58: =1/TAN(C58) -> 0.57735027 | M58: 1 | N58: =MIN((L58-2)/(M58-2),2) -> 1.4226497
D59: VRd,c (kN) | E59: =MAX(H57:H58) -> 38.941779 | F59: =E59/$I$50 -> 1 | I59: =MAX(J59:K59)*$D$12*$B$11/1000 -> 38.941779 | J59: =0.18*$L$34*(100*$H$11*$B$3)^(1/3)/$B$4 -> 0.77883557 | K59: =0.075*$L$34^1.5*$B$3^0.5/$B$4 -> 0.65186383 | N59: =IF(L58>=M58,MAX(N58,0),N57) -> 0.15470054
A60: α | B60: =B57 -> 90 | C60: =B60*PI()/180 -> 1.5707963 | D60: VRd,s (kN) | E60: =$G$17*0.9*$B$11*$D$5*(1/TAN(C61))/$F$17/1000 -> 75.16431 | F60: =E60/$I$48 -> 0.44658257 | G60: VRd,c1 | H60: =($A$15*$I$11*(100*$H$11*$B$3)^(1/3))*$D$12*$B$11/1000 -> 38.941779 | I60: =J60+K60 -> 101.74436 | J60: =0.9*$B$11*SIN(C60)*(1/TAN(C60)+1/TAN(C61))*$G$17*MIN($D$5,400)/$F$17/1000 -> 69.151165 | K60: =MAX(K61*$D$12*$B$11*N62/1000,K62*$D$12*$B$11/1000) -> 32.593192 | N60: =(2*L61-1)/(2*M61-1) -> 0.019050899 | O60: =0.9*0.5*(L61-1/TAN(C60)) -> 0.22928645
A61: θ | B61: 63 | C61: =B61*PI()/180 -> 1.0995574 | D61: VRd,max (kN) | E61: =$B$7*$D$12*0.9*$B$11*$B$8*$B$5/(L61+TAN(C61))/1000 -> 163.82594 | F61: =E61/$I$49 -> 0.65530377 | G61: VRd,c2 | H61: =$B$15*$D$12*$B$11/1000 -> 22.815234 | I61: =0.6*$B$5*$D$12*$B$11*(L61+1/TAN(C60))/(1+L61^2)/1000 -> 202.25425 | K61: =0.15*$L$34*(100*$H$11*$B$3)^(1/3)*N60/$B$4 -> 0.012364598 | L61: =1/TAN(C61) -> 0.50952545 | M61: 1 | N61: =MIN((L61-2)/(M61-2),2) -> 1.4904746
D62: VRd,c (kN) | E62: =MAX(H60:H61) -> 38.941779 | F62: =E62/$I$50 -> 1 | I62: =MAX(J62:K62)*$D$12*$B$11/1000 -> 38.941779 | J62: =0.18*$L$34*(100*$H$11*$B$3)^(1/3)/$B$4 -> 0.77883557 | K62: =0.075*$L$34^1.5*$B$3^0.5/$B$4 -> 0.65186383 | N62: =IF(L61>=M61,MAX(N61,0),N60) -> 0.019050899

Sheet CE (2)
A2: MATERIALES
A3: fck (Mpa) | B3: 25 | C3: fyk (Mpa) | D3: 500
A4: γc | B4: 1.5 | C4: γs | D4: 1.15
A5: fcd (Mpa) | B5: =B3/B4 -> 16.666667 | C5: fyd (Mpa) | D5: =IF(F5="NO",D3/D4,IF(F5="400 Mpa",MIN(D3/D4,400),MIN(0.8*D3,D3/D4))) -> 434.78261 | E5: límite máximo | F5: NO
A6: fct,m (Mpa) | B6: =0.3*B3^(2/3) -> 2.5649639
A7: αcw | B7: 1
A8: ν1 | B8: =IF(F5="0,8·fyd",0.6,0.6*(1-B3/250)) -> 0.54
A9: SECCIÓN | C9: ARMADURA TRACCIONADA
A10: bw (mm) | B10: 250 | D10: φ | E10: n | F10: φ | G10: Asl (mm2) | H10: ρl | I10: k
A11: d (mm) | B11: 450 | C11: 2 | D11: 16 | E11: 0 | F11: 20 | G11: =C11*D11^2*PI()*0.25+E11*F11^2*PI()*0.25 -> 402.12386 | H11: =MIN(G11/(B10*B11),0.02) -> 0.0035744343 | I11: =MIN(1+(200/B11)^0.5,2) -> 1.6666667
A12: ELEMENTOS SIN ARMADURA DE CORTANTE | D12: ELEMENTOS CON ARMADURA DE CORTANTE
A13: CRd,c | B13: vmin | D13: α | E13: 90
A14: =0.18/B4 -> 0.12 | B14: =0.035*I11^1.5*B3^0.5 -> 0.37654005 | D14: RAMAS EN LA VIGA
D15: n | E15: φ | F15: S | G15: Asw | H15: ρw
D16: 2 | E16: 6 | F16: 100 | G16: =D16*E16^2*PI()*0.25 -> 56.548668 | H16: =G16/(F16*B10*SIN(E13*PI()/180)) -> 0.0022619467
D17: STMAX | F17: SMAX | G17: ρw,MIN
D18: =FLOOR(MIN(0.75*B11,600),1) -> 337 | F18: =FLOOR(0.75*B11+(1+1/TAN(E13*PI()/180)),1) -> 338 | G18: =0.08*(B3)^0.5/D3 -> 0.0008
D19: =IF(F16>F18,"NO CUMPLE DISTANCIA MÁXIMA LONGITUDINAL","-") -> -
D20: =IF((B10-40)/(D16-1)>D18,"NO CUMPLE DISTANCIA MÁXIMA TRANSVERSAL","-") -> -
D21: =IF(H16<G18,"NO CUMPLE CUANTÍA MÍNIMA","-") -> -
I30: EHE
I31: Vsu+Vcu | J31: Vsu | K31: Vcu
I32: Vu1 | K32: τVcu | L32: ξ
I33: Vu2 | J33: τVu2,1 | K33: τVu2,2 | L33: =MIN(1+(200/B11)^0.5,2) -> 1.6666667
B34: GRADOS | C34: RADIANES | F34: CE/EHE | L34: cotθ | M34: cotθe | N34: β | O34: DECALAJE RESPECTO d
A35: α | B35: =E13 -> 90 | C35: =B35*PI()/180 -> 1.5707963 | D35: VRd,s (kN) | E35: =$G$16*0.9*$B$11*$D$5*(1/TAN(C36))/$F$16/1000 -> 199.71621 | F35: =E35/$I$47 -> 1.2475231 | G35: VRd,c1 | H35: =($A$14*$I$11*(100*$H$11*$B$3)^(1/3))*$B$10*$B$11/1000 -> 46.690834 | I35: =J35+K35 -> 260.23157 | J35: =0.9*$B$11*SIN(C35)*(1/TAN(C35)+1/TAN(C36))*$G$16*$D$5/$F$16/1000 -> 199.71621 | K35: =MAX(K36,K37)*$B$10*$B$11/1000 -> 60.515365 | O35: =0.9*0.5*(L36-1/TAN(C35)) -> 0.90256037
A36: θ | B36: 26.5 | C36: =B36*PI()/180 -> 0.46251225 | D36: VRd,max (kN) | E36: =$B$7*$B$10*0.9*$B$11*$B$8*$B$5/(L36+TAN(C36))/1000 -> 363.8783 | F36: =E36/$I$48 -> 0.64689476 | G36: VRd,c2 | H36: =$B$14*$B$10*$B$11/1000 -> 42.360755 | I36: =0.6*$B$5*$B$10*$B$11*(L36+1/TAN(C35))/(1+L36^2)/1000 -> 449.23247 | K36: =0.15*$L$33*(100*$H$11*$B$3)^(1/3)*N36/$B$4 -> 0 | L36: =1/TAN(C36) -> 2.0056897 | M36: 1 | N36: =MAX(IF(L36<M36,(2*L36-1)/(2*M36-1),(L36-2)/(M36-2)),0) -> 0
D37: VRd,c (kN) | E37: =MAX(H35:H36) -> 46.690834 | F37: =E37/$I$49 -> 0.77155337 | I37: =MAX(J37:K37)*$B$10*$B$11/1000 -> 60.515365 | J37: =0.18*$L$33*(100*$H$11*$B$3)^(1/3)/$B$4 -> 0.41502963 | K37: =0.075*$L$33^1.5*$B$3^0.5/$B$4 -> 0.53791435
A38: α | B38: =B35 -> 90 | C38: =B38*PI()/180 -> 1.5707963 | D38: VRd,s (kN) | E38: =$G$16*0.9*$B$11*$D$5*(1/TAN(C39))/$F$16/1000 -> 172.46866 | F38: =E38/$I$47 -> 1.0773218 | G38: VRd,c1 | H38: =($A$14*$I$11*(100*$H$11*$B$3)^(1/3))*$B$10*$B$11/1000 -> 46.690834 | I38: =J38+K38 -> 232.98403 | J38: =0.9*$B$11*SIN(C38)*(1/TAN(C38)+1/TAN(C39))*$G$16*$D$5/$F$16/1000 -> 172.46866 | K38: =MAX(K39,K40)*$B$10*$B$11/1000 -> 60.515365 | O38: =0.9*0.5*(L39-1/TAN(C38)) -> 0.77942286
A39: θ | B39: 30 | C39: =B39*PI()/180 -> 0.52359878 | D39: VRd,max (kN) | E39: =$B$7*$B$10*0.9*$B$11*$B$8*$B$5/(L39+TAN(C39))/1000 -> 394.58282 | F39: =E39/$I$48 -> 0.70148058 | G39: VRd,c2 | H39: =$B$14*$B$10*$B$11/1000 -> 42.360755 | I39: =0.6*$B$5*$B$10*$B$11*(L39+1/TAN(C38))/(1+L39^2)/1000 -> 487.13929 | K39: =0.15*$L$33*(100*$H$11*$B$3)^(1/3)*N39/$B$4 -> 0.092672379 | L39: =1/TAN(C39) -> 1.7320508 | M39: 1 | N39: =MAX(IF(L39<M39,(2*L39-1)/(2*M39-1),(L39-2)/(M39-2)),0) -> 0.26794919
D40: VRd,c (kN) | E40: =MAX(H38:H39) -> 46.690834 | F40: =E40/$I$49 -> 0.77155337 | I40: =MAX(J40:K40)*$B$10*$B$11/1000 -> 60.515365 | J40: =0.18*$L$33*(100*$H$11*$B$3)^(1/3)/$B$4 -> 0.41502963 | K40: =0.075*$L$33^1.5*$B$3^0.5/$B$4 -> 0.53791435
A41: α | B41: =B38 -> 90 | C41: =B41*PI()/180 -> 1.5707963 | D41: VRd,s (kN) | E41: =$G$16*0.9*$B$11*$D$5*(1/TAN(C42))/$F$16/1000 -> 142.20759 | F41: =E41/$I$47 -> 0.88829671 | G41: VRd,c1 | H41: =($A$14*$I$11*(100*$H$11*$B$3)^(1/3))*$B$10*$B$11/1000 -> 46.690834 | I41: =J41+K41 -> 202.72296 | J41: =0.9*$B$11*SIN(C41)*(1/TAN(C41)+1/TAN(C42))*$G$16*$D$5/$F$16/1000 -> 142.20759 | K41: =MAX(K42,K43)*$B$10*$B$11/1000 -> 60.515365 | O41: =0.9*0.5*(L42-1/TAN(C41)) -> 0.6426666
A42: θ | B42: 35 | C42: =B42*PI()/180 -> 0.61086524 | D42: VRd,max (kN) | E42: =$B$7*$B$10*0.9*$B$11*$B$8*$B$5/(L42+TAN(C42))/1000 -> 428.14745 | F42: =E42/$I$48 -> 0.76115102 | G42: VRd,c2 | H42: =$B$14*$B$10*$B$11/1000 -> 42.360755 | I42: =0.6*$B$5*$B$10*$B$11*(L42+1/TAN(C41))/(1+L42^2)/1000 -> 528.5771 | K42: =0.15*$L$33*(100*$H$11*$B$3)^(1/3)*N42/$B$4 -> 0.1977796 | L42: =1/TAN(C42) -> 1.428148 | M42: 1 | N42: =MAX(IF(L42<M42,(2*L42-1)/(2*M42-1),(L42-2)/(M42-2)),0) -> 0.57185199
D43: VRd,c (kN) | E43: =MAX(H41:H42) -> 46.690834 | F43: =E43/$I$49 -> 0.77155337 | I43: =MAX(J43:K43)*$B$10*$B$11/1000 -> 60.515365 | J43: =0.18*$L$33*(100*$H$11*$B$3)^(1/3)/$B$4 -> 0.41502963 | K43: =0.075*$L$33^1.5*$B$3^0.5/$B$4 -> 0.53791435
A44: α | B44: =B41 -> 90 | C44: =B44*PI()/180 -> 1.5707963 | D44: VRd,s (kN) | E44: =$G$16*0.9*$B$11*$D$5*(1/TAN(C45))/$F$16/1000 -> 118.66866 | F44: =E44/$I$47 -> 0.74126127 | G44: VRd,c1 | H44: =($A$14*$I$11*(100*$H$11*$B$3)^(1/3))*$B$10*$B$11/1000 -> 46.690834 | I44: =J44+K44 -> 179.18402 | J44: =0.9*$B$11*SIN(C44)*(1/TAN(C44)+1/TAN(C45))*$G$16*$D$5/$F$16/1000 -> 118.66866 | K44: =MAX(K45,K46)*$B$10*$B$11/1000 -> 60.515365 | O44: =0.9*0.5*(L45-1/TAN(C44)) -> 0.53628912
A45: θ | B45: 40 | C45: =B45*PI()/180 -> 0.6981317 | D45: VRd,max (kN) | E45: =$B$7*$B$10*0.9*$B$11*$B$8*$B$5/(L45+TAN(C45))/1000 -> 448.70303 | F45: =E45/$I$48 -> 0.79769428 | G45: VRd,c2 | H45: =$B$14*$B$10*$B$11/1000 -> 42.360755 | I45: =0.6*$B$5*$B$10*$B$11*(L45+1/TAN(C44))/(1+L45^2)/1000 -> 553.95436 | K45: =0.15*$L$33*(100*$H$11*$B$3)^(1/3)*N45/$B$4 -> 0.27953851 | L45: =1/TAN(C45) -> 1.1917536 | M45: 1 | N45: =MAX(IF(L45<M45,(2*L45-1)/(2*M45-1),(L45-2)/(M45-2)),0) -> 0.80824641 | R45: =0.15*$L$33*(100*$H$11*$B$3)^(1/3)*N48*$B$10*$B$11/$B$4/1000 -> 38.909028 | S45: =0.075*$L$33^1.5*$B$3^0.5*$B$10*$B$11/1000 -> 90.773047
D46: VRd,c (kN) | E46: =MAX(H44:H45) -> 46.690834 | F46: =E46/$I$49 -> 0.77155337 | I46: =MAX(J46:K46)*$B$10*$B$11/1000 -> 60.515365 | J46: =0.18*$L$33*(100*$H$11*$B$3)^(1/3)/$B$4 -> 0.41502963 | K46: =0.075*$L$33^1.5*$B$3^0.5/$B$4 -> 0.53791435 | Q46: Vcu | R46: =0.15*$L$33*(100*$H$11*$B$3)^(1/3)*$B$10*$B$11/$B$4/1000 -> 38.909028 | S46: =0.075*L33^1.5*B3^0.5/$B$4*$B$10*$B$11/1000 -> 60.515365
A47: α | B47: =B44 -> 90 | C47: =B47*PI()/180 -> 1.5707963 | D47: VRd,s (kN) | E47: =$G$16*0.9*$B$11*$D$5*(1/TAN(C48))/$F$16/1000 -> 99.574828 | F47: =E47/$I$47 -> 0.62199206 | G47: VRd,c1 | H47: =($A$14*$I$11*(100*$H$11*$B$3)^(1/3))*$B$10*$B$11/1000 -> 46.690834 | I47: =J47+K47 -> 160.09019 | J47: =0.9*$B$11*SIN(C47)*(1/TAN(C47)+1/TAN(C48))*$G$16*$D$5/$F$16/1000 -> 99.574828 | K47: =MAX(K48,K49)*$B$10*$B$11/1000 -> 60.515365 | O47: =0.9*0.5*(L48-1/TAN(C47)) -> 0.45 | Q47: Vsu | R47: =$G$16/$F$16*$D$5*0.9*$B$11/1000 -> 99.574828
A48: θ | B48: 45 | C48: =B48*PI()/180 -> 0.78539816 | D48: VRd,max (kN) | E48: =$B$7*$B$10*0.9*$B$11*$B$8*$B$5/(L48+TAN(C48))/1000 -> 455.625 | F48: =E48/$I$48 -> 0.81 | G48: VRd,c2 | H48: =$B$14*$B$10*$B$11/1000 -> 42.360755 | I48: =0.6*$B$5*$B$10*$B$11*(L48+1/TAN(C47))/(1+L48^2)/1000 -> 562.5 | K48: =0.15*$L$33*(100*$H$11*$B$3)^(1/3)*N48/$B$4 -> 0.34585803 | L48: =1/TAN(C48) -> 1 | M48: 1 | N48: =MAX(IF(L48<M48,(2*L48-1)/(2*M48-1),(L48-2)/(M48-2)),0) -> 1
D49: VRd,c (kN) | E49: =MAX(H47:H48) -> 46.690834 | F49: =E49/$I$49 -> 0.77155337 | I49: =MAX(J49:K49)*$B$10*$B$11/1000 -> 60.515365 | J49: =0.18*$L$33*(100*$H$11*$B$3)^(1/3)/$B$4 -> 0.41502963 | K49: =0.075*$L$33^1.5*$B$3^0.5/$B$4 -> 0.53791435
A50: α | B50: =B47 -> 90 | C50: =B50*PI()/180 -> 1.5707963 | D50: VRd,s (kN) | E50: =$G$16*0.9*$B$11*$D$5*(1/TAN(C51))/$F$16/1000 -> 83.553201 | F50: =E50/$I$47 -> 0.5219133 | G50: VRd,c1 | H50: =($A$14*$I$11*(100*$H$11*$B$3)^(1/3))*$B$10*$B$11/1000 -> 46.690834 | I50: =J50+K50 -> 144.06857 | J50: =0.9*$B$11*SIN(C50)*(1/TAN(C50)+1/TAN(C51))*$G$16*$D$5/$F$16/1000 -> 83.553201 | K50: =MAX(K51,K52)*$B$10*$B$11/1000 -> 60.515365 | O50: =0.9*0.5*(L51-1/TAN(C50)) -> 0.37759483
A51: θ | B51: 50 | C51: =B51*PI()/180 -> 0.87266463 | D51: VRd,max (kN) | E51: =$B$7*$B$10*0.9*$B$11*$B$8*$B$5/(L51+TAN(C51))/1000 -> 448.70303 | F51: =E51/$I$48 -> 0.79769428 | G51: VRd,c2 | H51: =$B$14*$B$10*$B$11/1000 -> 42.360755 | I51: =0.6*$B$5*$B$10*$B$11*(L51+1/TAN(C50))/(1+L51^2)/1000 -> 553.95436 | K51: =0.15*$L$33*(100*$H$11*$B$3)^(1/3)*N51/$B$4 -> 0.23456066 | L51: =1/TAN(C51) -> 0.83909963 | M51: 1 | N51: =MAX(IF(L51<M51,(2*L51-1)/(2*M51-1),(L51-2)/(M51-2)),0) -> 0.67819926
D52: VRd,c (kN) | E52: =MAX(H50:H51) -> 46.690834 | F52: =E52/$I$49 -> 0.77155337 | I52: =MAX(J52:K52)*$B$10*$B$11/1000 -> 60.515365 | J52: =0.18*$L$33*(100*$H$11*$B$3)^(1/3)/$B$4 -> 0.41502963 | K52: =0.075*$L$33^1.5*$B$3^0.5/$B$4 -> 0.53791435
A53: α | B53: =B50 -> 90 | C53: =B53*PI()/180 -> 1.5707963 | D53: VRd,s (kN) | E53: =$G$16*0.9*$B$11*$D$5*(1/TAN(C54))/$F$16/1000 -> 69.723045 | F53: =E53/$I$47 -> 0.43552353 | G53: VRd,c1 | H53: =($A$14*$I$11*(100*$H$11*$B$3)^(1/3))*$B$10*$B$11/1000 -> 46.690834 | I53: =J53+K53 -> 130.23841 | J53: =0.9*$B$11*SIN(C53)*(1/TAN(C53)+1/TAN(C54))*$G$16*$D$5/$F$16/1000 -> 69.723045 | K53: =MAX(K54,K55)*$B$10*$B$11/1000 -> 60.515365 | O53: =0.9*0.5*(L54-1/TAN(C53)) -> 0.31509339
A54: θ | B54: 55 | C54: =B54*PI()/180 -> 0.95993109 | D54: VRd,max (kN) | E54: =$B$7*$B$10*0.9*$B$11*$B$8*$B$5/(L54+TAN(C54))/1000 -> 428.14745 | F54: =E54/$I$48 -> 0.76115102 | G54: VRd,c2 | H54: =$B$14*$B$10*$B$11/1000 -> 42.360755 | I54: =0.6*$B$5*$B$10*$B$11*(L54+1/TAN(C53))/(1+L54^2)/1000 -> 528.5771 | K54: =0.15*$L$33*(100*$H$11*$B$3)^(1/3)*N54/$B$4 -> 0.13848677 | L54: =1/TAN(C54) -> 0.70020754 | M54: 1 | N54: =MAX(IF(L54<M54,(2*L54-1)/(2*M54-1),(L54-2)/(M54-2)),0) -> 0.40041508
D55: VRd,c (kN) | E55: =MAX(H53:H54) -> 46.690834 | F55: =E55/$I$49 -> 0.77155337 | I55: =MAX(J55:K55)*$B$10*$B$11/1000 -> 60.515365 | J55: =0.18*$L$33*(100*$H$11*$B$3)^(1/3)/$B$4 -> 0.41502963 | K55: =0.075*$L$33^1.5*$B$3^0.5/$B$4 -> 0.53791435
A56: α | B56: =B53 -> 90 | C56: =B56*PI()/180 -> 1.5707963 | D56: VRd,s (kN) | E56: =$G$16*0.9*$B$11*$D$5*(1/TAN(C57))/$F$16/1000 -> 57.489554 | F56: =E56/$I$47 -> 0.35910728 | G56: VRd,c1 | H56: =($A$14*$I$11*(100*$H$11*$B$3)^(1/3))*$B$10*$B$11/1000 -> 46.690834 | I56: =J56+K56 -> 118.00492 | J56: =0.9*$B$11*SIN(C56)*(1/TAN(C56)+1/TAN(C57))*$G$16*$D$5/$F$16/1000 -> 57.489554 | K56: =MAX(K57,K58)*$B$10*$B$11/1000 -> 60.515365 | O56: =0.9*0.5*(L57-1/TAN(C56)) -> 0.25980762
A57: θ | B57: 60 | C57: =B57*PI()/180 -> 1.0471976 | D57: VRd,max (kN) | E57: =$B$7*$B$10*0.9*$B$11*$B$8*$B$5/(L57+TAN(C57))/1000 -> 394.58282 | F57: =E57/$I$48 -> 0.70148058 | G57: VRd,c2 | H57: =$B$14*$B$10*$B$11/1000 -> 42.360755 | I57: =0.6*$B$5*$B$10*$B$11*(L57+1/TAN(C56))/(1+L57^2)/1000 -> 487.13929 | K57: =0.15*$L$33*(100*$H$11*$B$3)^(1/3)*N57/$B$4 -> 0.053504423 | L57: =1/TAN(C57) -> 0.57735027 | M57: 1 | N57: =MAX(IF(L57<M57,(2*L57-1)/(2*M57-1),(L57-2)/(M57-2)),0) -> 0.15470054
D58: VRd,c (kN) | E58: =MAX(H56:H57) -> 46.690834 | F58: =E58/$I$49 -> 0.77155337 | I58: =MAX(J58:K58)*$B$10*$B$11/1000 -> 60.515365 | J58: =0.18*$L$33*(100*$H$11*$B$3)^(1/3)/$B$4 -> 0.41502963 | K58: =0.075*$L$33^1.5*$B$3^0.5/$B$4 -> 0.53791435
A59: α | B59: =B56 -> 90 | C59: =B59*PI()/180 -> 1.5707963 | D59: VRd,s (kN) | E59: =$G$16*0.9*$B$11*$D$5*(1/TAN(C60))/$F$16/1000 -> 50.735909 | F59: =E59/$I$47 -> 0.31692078 | G59: VRd,c1 | H59: =($A$14*$I$11*(100*$H$11*$B$3)^(1/3))*$B$10*$B$11/1000 -> 46.690834 | I59: =J59+K59 -> 111.25127 | J59: =0.9*$B$11*SIN(C59)*(1/TAN(C59)+1/TAN(C60))*$G$16*$D$5/$F$16/1000 -> 50.735909 | K59: =MAX(K60,K61)*$B$10*$B$11/1000 -> 60.515365 | O59: =0.9*0.5*(L60-1/TAN(C59)) -> 0.22928645
A60: θ | B60: 63 | C60: =B60*PI()/180 -> 1.0995574 | D60: VRd,max (kN) | E60: =$B$7*$B$10*0.9*$B$11*$B$8*$B$5/(L60+TAN(C60))/1000 -> 368.60837 | F60: =E60/$I$48 -> 0.65530377 | G60: VRd,c2 | H60: =$B$14*$B$10*$B$11/1000 -> 42.360755 | I60: =0.6*$B$5*$B$10*$B$11*(L60+1/TAN(C59))/(1+L60^2)/1000 -> 455.07206 | K60: =0.15*$L$33*(100*$H$11*$B$3)^(1/3)*N60/$B$4 -> 0.0065889063 | L60: =1/TAN(C60) -> 0.50952545 | M60: 1 | N60: =MAX(IF(L60<M60,(2*L60-1)/(2*M60-1),(L60-2)/(M60-2)),0) -> 0.019050899
D61: VRd,c (kN) | E61: =MAX(H59:H60) -> 46.690834 | F61: =E61/$I$49 -> 0.77155337 | I61: =MAX(J61:K61)*$B$10*$B$11/1000 -> 60.515365 | J61: =0.18*$L$33*(100*$H$11*$B$3)^(1/3)/$B$4 -> 0.41502963 | K61: =0.075*$L$33^1.5*$B$3^0.5/$B$4 -> 0.53791435

Sheet EHE
E1: OFICINA MADRID C/ SAN BERNARDO 12 - 2º DCHA 28015 MADRID T. 91 521 33 43 | G1: OFICINA CANTABRIA C/ EL CRUCERO 11.6 39710 SOLARES T. 942 52 06 91
A2: ESTADO LÍMITE DE AGOTAMIENTO FRENTE A CORTANTE (EHE-08 Art 44º)
A3: DATOS DE LA SECCIÓN COMPROBADA
A4: SECCIÓN | C4: ARMADURA TRACCIONADA | E4: SOLICITACIONES
A5: b (mm) | B5: =CE!D12 -> 200 | C5: n | D5: f | E5: CORTANTE EN CARA DEL PILAR (KN) | H5: 698 | Q5: GRADOS | R5: RADIANES | S5: TAN | T5: COT
A6: h (mm) | B6: 300 | C6: =CE!C11 -> 4 | D6: =CE!D11 -> 16 | E6: CORTANTE A DISTANCIA d DEL PILAR (KN) | H6: 375 | P6: α | Q6: =CE!E14 -> 90 | R6: =Q6*PI()/180 -> 1.5707963 | S6: =TAN(R6) -> 1.6324552e+16 | T6: =1/TAN(R6) -> 6.1257423e-17
A7: d1 (mm) | B7: 60 | C7: =CE!E11 -> 0 | D7: =CE!F11 -> 20 | E7: MATERIALES | P7: θ | Q7: =CE!I4 -> 0 | R7: =Q7*PI()/180 -> 0 | S7: =TAN(R7) -> 0 | T7: =1/TAN(R7) -> #DIV/0!
A8: d (mm) | B8: =CE!B11 -> 250 | F8: fk (N/mm2) | G8: g | H8: fd (N/mm2) | P8: θe
A9: Recubrimiento lateral | B9: 25 | C9: A (mm2) | E9: Hormigón | F9: 25 | G9: =CE!B4 -> 1.5 | H9: =CE!B5 -> 16.666667
A10: Ancho del pilar (mm) | B10: 800 | C10: A1 (mm2) | D10: =SUM(D9+((D6*0.5)^2)*3.14*C6+((D7*0.5)^2)*3.14*C7+((D8*0.5)^2)*3.14*C8) -> 803.84 | G10: fct,m (N/mm2) | H10: =0.3*F9^(2/3) -> 2.5649639
A11: b0 (mm) | B11: =MIN(B5,(B10+2*B8)) -> 200 | C11: r1 | D11: =MIN(D10/(B11*B8),0.02) -> 0.0160768 | E11: Acero | F11: 500 | G11: 1.15 | H11: =CE!D5 -> 434.78261
C12: z | D12: =MIN(2,1+(200/B8)^0.5) -> 1.8944272 | G12: fy90,d (N/mm2) | H12: =MIN(H11,400) -> 400
A14: COMPROBACIÓN DE AGOTAMIENTO POR COMPRESIÓN OBLICUA EN EL ALMA (EN EL BORDE DEL APOYO)
A15: Vu1 (KN) | B15: =0.6*H9*B11*B8*(T7+T6)/(1+T7^2)/1000 -> #DIV/0! | C15: =IF(B15>=H5,"SE CUMPLE LA COMPROBACIÓN DE AGOTAMIENTO POR COMPRESIÓN OBLICUA EN EL ALMA","LA SECCIÓN FALLA POR COMPRESIÓN OBLICUA EN EL ALMA") -> #DIV/0!
A17: COMPROBACIÓN DE AGOTAMIENTO POR TRACCIÓN EN EL ALMA (A UN CANTO ÚTIL DESDE EL BORDE DEL APOYO)
A18: ELEMENTO SIN ARMADURA DE CORTANTE | E18: ELEMENTO CON ARMADURA DE CORTANTE | K18: vcu | L18: =L21*((0.15/G9)*D12*(100*D11*F9)^0.33)*B11*B8/1000 -> #DIV/0!
A19: Vu2 (KN) | B19: =MAX(((0.15/G9)*D12*(100*D11*F9)^0.33)*B11*B8/1000,((0.075/G9)*(D12^1.5)*(F9^0.5))*B11*B8/1000) -> 32.593192 | E19: Vcu(KN) | F19: =MAX(L18,B19) -> #DIV/0! | K19: β | L19: =(2*T7-1) -> #DIV/0! | M19: con theta menos de 45
A20: =IF(B19>=H6,"NO ES NECESARIA ARMADURA DE CORTANTE","ES NECESARIA ARMADURA DE CORTANTE") -> ES NECESARIA ARMADURA DE CORTANTE | E20: ARMADURA MÍNIMA | L20: =(T7-2)/(-1) -> #DIV/0! | M20: con theta mayor o igual de 45
E21: st,trans (mm) | F21: =MIN(500,B8) -> 250 | G21: Nº DE RAMAS | H21: =MAX(2,1+CEILING((B5-2*B9)/F21,1)) -> 2 | L21: =IF(Q7>=45,L20,L19) -> #DIV/0! | M21: beta elegido
A22: HIPÓTESIS CONSIDERADAS | E22: stmax(mm) | F22: =MIN(FLOOR(H21*PI()*(H22*0.5)^2/F23,50),IF((H6/B15)<=0.2,MIN(FLOOR(0.75*B8,50),600),(IF((H6/B15)<=0.66,MIN(FLOOR(0.6*B8,50),450),MIN(FLOOR(0.3*B8,50),300))))) -> #DIV/0! | G22: f | H22: 6
A23: Sección rectangular | E23: Aamin(mm2/mm) | F23: =(H10*B11)/(H12*7.5) -> 0.17099759 | G23: Vsu(KN) | H23: =0.9*B8*H12*H21*PI()*(H22*0.5)^2/(F22*1000) -> #DIV/0!
A24: No existen cargas colgadas | E24: ESFUERZO CORTANTE DE AGOTAMIENTO POR TRACCIÓN EN EL ALMA CON ARMADURA MÍNIMA Vu2 (KN) | H24: =F19+H23 -> #DIV/0!
A25: Cercos rectangulares
A26: syd=0 | E26: =IF(H24>=H6,"LA ARMADURA MÍNIMA ES SUFICIENTE","ES NECESARIA ARMADURA DE REFUERZO") -> #DIV/0!
A27: a=90º | E27: ARMADURA DE REFUERZO
A28: q=qe=45º | E28: st,trans (mm) | F28: =IF(H28=1,B5-2*B9,B5-2*B9/(H28-1)) -> 175 | G28: Nº DE RAMAS | H28: =CE!D17 -> 3
A29: Md>Mfis,d | E29: st(mm) | F29: =CE!F17 -> 100 | G29: f | H29: =CE!E17 -> 8
A30: fcv=fck | E30: Aa(mm2/mm) | F30: =H28*PI()*(H29*0.5)^2/F29 -> 1.5079645 | G30: Vsu(KN) | H30: =0.9*B8*F30*H12/1000*(SIN(R6)*(T6+T7)) -> #DIV/0!
A31: b0= ancho de pilar + 2·d | E31: =IF(OR(F29>F22,F30<F23),"NO SE CUMPLE ALGÚN CRITERIO DE ARMADO MÍNIMO","ESFUERZO CORTANTE DE AGOTAMIENTO POR TRACCIÓN EN EL ALMA CON ARMADURA DE REFUERZO Vu2 (KN)") -> #DIV/0! | H31: =F19+H30 -> #DIV/0!
A32: No hay armadura de compresión
E33: =IF(H31>=H6,"LA ARMADURA DE REFUERZO ES SUFICIENTE","FALTA ARMADURA DE REFUERZO") -> #DIV/0!
