Workbook
Name axil: DATOS!$A$16:$A$17
Name coacciones: DATOS!$A$9:$A$12
Name flecha: DATOS!$A$21:$A$22
Name materiales: DATOS!$A$3:$A$5
Name NMV: DATOS!$A$27:$B$27
Name nombreperfiles: 'Características Perfiles'!$A$4:$A$21
Name SINO: DATOS!$A$30:$A$31

Sheet COMPROBACIÓN IPE
A2: IPE | M2: PANDEO LATERAL | N2: SI
A3: IPE | B3: 200 | D3: INTERACCIÓN DE ESFUERZOS | F3: ϒ | M3: Lc (m) | N3: =B18 -> 3
A4: Acero | B4: S275 | D4: N+M | E4: SÍ | F4: =IF(E4="SÍ",B11/MIN(D11,D12)+B13/D13+B14/D14,"-1") -> 0.17308168 | M4: C1 | N4: 1
A5: fyk (Mpa) | B5: =IF(B4="S235",VLOOKUP($B$3,'Características Perfiles'!$Z$4:$AE$21,2),IF(B4="S275",VLOOKUP($B$3,'Características Perfiles'!$Z$4:$AE$21,3),VLOOKUP($B$3,'Características Perfiles'!$Z$4:$AE$21,4))) -> 275 | D5: M+V | E5: SÍ | F5: =IF(E5="SÍ",($B$13/$F$13)+($B$14/$F$14),"-1") -> 0.17308168 | M5: MLTw (mkN) | N5: =D42*PI()^2*B8*N4*(MIN(D46,F46))^2/(N3*1000)^2*0.000001 -> 8.6241239
A6: ϒs | B6: 1.05 | D6: N+M+V | E6: SÍ | F6: =IF(E6="SÍ",($B$13/$F$13)+($B$14/$F$14)+(B11/MIN($D$11,$D$12)),"-1") -> 0.17308168 | M6: MLTv (mkN) | N6: =N4*PI()*(B9*B48*B8*F41)^0.5/(N3*2000)*0.000001 -> 21.529477
A7: fyd (Mpa) | B7: =B5/B6 -> 261.90476 | M7: MCR | N7: =(N5^2+N6^2)^0.5 -> 23.19254
A8: E (Mpa) | B8: 210000 | M8: λLT | N8: =(B5*D42*0.000001/N7)^0.5 -> 1.5178491
A9: G (Mpa) | B9: 81000 | M9: curva de pandeo | N9: =IF(B40/B41<=2,"a","b") -> a
A10: L (m) | B10: 6.3 | M10: αLT | N10: =IF(N9="a",0.21,0.34) -> 0.21
A11: NEd-COMPRESIÓN (kN) | B11: 0 | C11: =IF(A11="NEd-TRACCIÓN (kN)","Nt,Rd","Nb,Rdz (kN)") -> Nb,Rdz (kN) | D11: =IF(A11="NEd-TRACCIÓN (kN)",(B45*B7)/(1000),($B$7*$B$45*B24)/(1000)) -> 557.87656 | E11: =IF(B11=0,"",IF(A11="NEd-TRACCIÓN (kN)","",IF(B23>=2.7,"ESBELTEZ INTOLERABLE",IF(B23>=2,"SÓLO ARRIOSTRAMIENTO","")))) | M11: φLT | N11: =0.5*(1+N10*(N8-0.2)+N8^2) -> 1.7903071
C12: =IF(A11="NEd-TRACCIÓN (kN)","","Nb,Rdy (kN)") -> Nb,Rdy (kN) | D12: =IF(A11="NEd-TRACCIÓN (kN)","",($B$7*$B$45*E24)/(1000)) -> 63.885771 | E12: =IF(B11=0,"",IF(A11="NEd-TRACCIÓN (kN)","",IF(E23>=2.7,"ESBELTEZ INTOLERABLE",IF(E23>=2,"SÓLO ARRIOSTRAMIENTO","")))) | M12: χLT | N12: =MIN(1,1/(N11+(N11^2-N8^2)^0.5)) -> 0.36500441
A13: My,Ed (mkN) | B13: 10 | C13: =IF(OR($D$49>=3,$F$49>=3),"Mel,RDy (mkN)","Mpl,RDy (mkN)") -> Mpl,RDy (mkN) | D13: =IF(D7="SÍ",B78,IF(OR(B17="NO SE COMPRUEBA",B18<=D17),IF(OR($D$49>=3,$F$49>=3),(D42*$B$7)/(1000000),(D43*$B$7)/(1000000)),F18)) -> 57.77619 | E13: MV,Rdy (mkN) | F13: =IF(D15<2*B15,MAX(D13-(((F16*D45*D45)/(4*B42))*B5)/(1000000*1.05),0),D13) -> 57.77619 | M13: Mb,Rd | N13: =D13*N12 -> 21.088564
A14: Mz,Ed (mkN) | B14: 0 | C14: =IF(OR($D$49>=3,$F$49>=3),"Mel,RDz (mkN)","Mpl,RDz (mkN)") -> Mpl,RDz (mkN) | D14: =IF(OR($D$49>=3,$F$49>=3),(F42*$B$7)/(1000000),(F43*$B$7)/(1000000)) -> 11.683571 | E14: MV,Rdy (mkN) | F14: =IF(D16<2*B16,MAX(D14-(((F15*F45*F45)/(4*B42))*B5)/(1000000*1.05),0),D14) -> 11.683571 | M14: PANDEO LATERAL
A15: Vz,Ed (kN) | B15: 13 | C15: VzRD (kN) | D15: =((D45*$B$7)/(((3)^0.5)))/1000 -> 211.6951 | E15: ρy | F15: =((2*B16/D16)-1)^2 -> 1 | M15: cdg soporte equv. | N15: =(B41*B43*0.5*B43+B42*0.5*B46/3*(B43+0.25*B46/3))/(B41*B43+B42*0.5*B46/3) -> 7.5127351
A16: Vy,Ed (kN) | C16: VyRD (kN) | D16: =((F45*$B$5)/(((3)^0.5)*1.05))/1000 -> 296.31265 | E16: ρz | F16: =((2*B15/D15)-1)^2 -> 0.769448 | M16: I sop equiv | N16: =B41*B43^3/12+B42*(0.5*B46/3)^3/12+B41*B43*N17^2+B42*B46*0.5/3*N18^2 -> 196746.18
A17: PANDEO LATERAL | B17: NO SE COMPRUEBA | C17: Lc,max (m) | D17: =40*MIN(D44,F44)/1000 -> 0.896 | M17: yala | N17: =N15-0.5*B43 -> 3.2627351
A18: Lc (m) | B18: 3 | C18: χLT | D18: =N12 -> 0.36500441 | E18: Mb,Rd (mkN) | F18: =D18*IF(OR($D$49>=3,$F$49>=3),(D42*$B$7)/(1000000),(D43*$B$7)/(1000000)) -> 21.088564 | M18: yalma | N18: =(B43+0.5*B46/3)-N15 -> 31.487265
A19: PANDEO EN Y | D19: PANDEO EN Z | M19: ify | N19: =(N16/(B41*B43+B42*B46*0.5/3))^0.5 -> 13.882984
A20: COACCIONES EN EXTREMOS | B20: ARTICULADO-ARTICULADO | D20: COACCIONES EN EXTREMOS | E20: ARTICULADO-ARTICULADO | M20: ifz
A22: Lk (m) | B22: =IF(B20="MÉNSULA",2*$B$10,IF(B20="ARTICULADO-ARTICULADO",$B$10,IF(B20="ARTICULADO-EMPOTRADO",0.7*$B$10,IF(B20="EMPOTRADO-EMPOTRADO",0.5*$B$10,"")))) -> 6.3 | D22: Lk (m) | E22: =H22*IF(E20="MÉNSULA",2*$B$10,IF(E20="ARTICULADO-ARTICULADO",$B$10,IF(E20="ARTICULADO-EMPOTRADO",0.7*$B$10,IF(E20="EMPOTRADO-EMPOTRADO",0.5*$B$10,"")))) -> 6.3 | G22: Modificador Lk | H22: 1
A23: λk | B23: =((B45*B5)/(B25*1000))^0.5 -> 0.87933352 | D23: λk | E23: =((B45*B5)/(E25*1000))^0.5 -> 3.2481422
A24: χ | B24: =IF(B23<0.2,1,1/(B26+(B26*B26-B23*B23)^0.5)) -> 0.74739444 | D24: χ | E24: =IF(E23<0.2,1,1/(E26+(E26*E26-E23*E23)^0.5)) -> 0.085588593
A25: Ncr (kN) | B25: =((3.14/(B22*1000))^2)*210000*D41/1000 -> 1013.6086 | D25: Ncr (kN) | E25: =((3.14/(E22*1000))^2)*210000*F41/1000 -> 74.286087
A26: φ | B26: =0.5*(1+B27*(B23-0.2)+B23*B23) -> 0.95794374 | D26: φ | E26: =0.5*(1+E27*(E23-0.2)+E23*E23) -> 6.2933981
A27: α | B27: =IF(D47="a0",0.13,IF(D47="a",0.21,IF(D47="b",0.34,IF(D47="c",0.49,0.76)))) -> 0.21 | D27: α | E27: =IF(F47="a0",0.13,IF(F47="a",0.21,IF(F47="b",0.34,IF(F47="c",0.49,0.76)))) -> 0.34
A28: FLECHA
A29: PORCIÓN C. P. | B29: 0.5 | C29: PREVIO P. OBRA | D29: 1 | E29: TIPO DE TABIQUES | F29: OTROS CASOS
A30: VANO | C30: CARACTERÍSTICA | D30: CASI PERM. | E30: ACTIVA | H30: CARGA TOTAL | I30: CARACTERÍSTICA | J30: CASI PERM. | K30: ACTIVA | L30: LÍMITE ACTIVA
A31: q UNIFORME (kN/m) | B31: 4.8 | C31: =($B$29*H31+(1-$B$29)*0.7*H31) -> 20.51016 | D31: =($B$29*H31+(1-$B$29)*0.6*H31) -> 19.30368 | E31: =0.5*H31 -> 12.0648 | H31: =IF($A$30="VANO",(5*B31*($B$10*1000)^4)/(384*210000*$D$41),(B31*($B$10*1000)^4)/(8*210000*$D$41)) -> 24.1296 | I31: =FLOOR($B$10*1000/C37,10) -> 300 | J31: =FLOOR($B$10*1000/D37,10) -> 320 | K31: =FLOOR($B$10*1000/E37,10) -> 520 | L31: =IF(F29="FRÁGILES",500,IF(F29="ORDINARIOS",400,300)) -> 300
A32: P CENTRAL (kN) | B32: 0 | C32: =($B$29*H32+(1-$B$29)*0.7*H32) -> 0 | D32: =($B$29*H32+(1-$B$29)*0.6*H32) -> 0 | E32: =0.5*H32 -> 0 | H32: =IF($A$30="VANO",(B32*1000*($B$10*1000)^3)/(48*210000*$D$41),(B32*1000*($B$10*1000)^3)/(3*210000*$D$41)) -> 0
A33: =IF(A30="VANO","P SIMÉTRICA (kN)","P INTERMEDIA (kN)") -> P SIMÉTRICA (kN) | B33: 0 | C33: =($B$29*H33+(1-$B$29)*0.7*H33) -> 0 | D33: =($B$29*H33+(1-$B$29)*0.6*H33) -> 0 | E33: =0.5*H33 -> 0 | H33: =IF(A30="VANO",B33*1000*B34*1000*(3*(B10*1000)^2-4*(B34*1000)^2)/(24*B8*D41),B33*1000*(B34*1000)^2*(3*B10*1000-B34*1000)/(6*B8*D41)) -> 0
A34: =IF(A30="VANO","Distancia a apoyos (m)","Distancia a apoyo (m)") -> Distancia a apoyos (m) | B34: 0
A35: Mizda | B35: 0 | C35: =($B$29*H35+(1-$B$29)*0.7*H35) -> 0 | D35: =($B$29*H35+(1-$B$29)*0.6*H35) -> 0 | E35: =0.5*H35 -> 0 | H35: =IF(A30="VANO",-B35*1000000*($B$10*1000)^2/(16*$B$8*$D$41),0) -> 0
A36: Mdcha | B36: 0 | C36: =($B$29*H36+(1-$B$29)*0.7*H36) -> 0 | D36: =($B$29*H36+(1-$B$29)*0.6*H36) -> 0 | E36: =0.5*H36 -> 0 | H36: =IF(A30="VANO",-B36*1000000*($B$10*1000)^2/(16*$B$8*$D$41),0) -> 0
B37: TOTAL (mm) | C37: =SUM(C31:C36) -> 20.51016 | D37: =SUM(D31:D36) -> 19.30368 | E37: =SUM(E31:E36) -> 12.0648
B38: RELATIVA | C38: =IF(C37=0,"-","L"&"/"&FLOOR($B$10*1000/C37,10)) -> L/300 | D38: =IF(D37=0,"-","L"&"/"&FLOOR($B$10*1000/D37,10)) -> L/320 | E38: =IF(E37=0,"-","L"&"/"&FLOOR($B$10*1000/E37,10)) -> L/520
A39: CARACTERÍSTICAS DEL PERFIL
A40: h (mm) | B40: =VLOOKUP($B$3,'Características Perfiles'!$A$4:$Y$21,2) -> 200 | C40: EJE FUERTE | E40: EJE DÉBIL
A41: b (mm) | B41: =VLOOKUP($B$3,'Características Perfiles'!$A$4:$Y$21,3) -> 100 | C41: Iy (mm4) | D41: =VLOOKUP($B$3,'Características Perfiles'!$A$4:$Y$21,10) -> 19430000 | E41: Iz (mm4) | F41: =VLOOKUP($B$3,'Características Perfiles'!$A$4:$Y$21,15) -> 1424000
A42: tw (mm) | B42: =VLOOKUP($B$3,'Características Perfiles'!$A$4:$Y$21,4) -> 5.6 | C42: Wel,y (mm3) | D42: =VLOOKUP($B$3,'Características Perfiles'!$A$4:$Y$21,11) -> 194300 | E42: Wel,z (mm3) | F42: =VLOOKUP($B$3,'Características Perfiles'!$A$4:$Y$21,16) -> 28470
...

Sheet Características Perfiles
A1: 1 | B1: =A1+1 -> 2 | C1: =B1+1 -> 3 | D1: =C1+1 -> 4 | E1: =D1+1 -> 5 | F1: =E1+1 -> 6 | G1: =F1+1 -> 7 | H1: =G1+1 -> 8 | I1: =H1+1 -> 9 | ... X1: =W1+1 -> 24 | Y1: 1 | Z1: =Y1+1 -> 2 | AA1: =Z1+1 -> 3 | AB1: =AA1+1 -> 4 | AC1: =AB1+1 -> 5 | AD1: =AC1+1 -> 6
B2: IPE | U2: Flexión pura | W2: Compresión pura | Z2: IPE
B3: h mm | C3: b mm | D3: tw mm | E3: tf mm | F3: r mm | G3: A mm2 | H3: hi mm | I3: d mm | J3: Iy mm4 | K3: Wel,y mm3 | L3: Wpl,y mm3 | M3: iy mm | N3: Avz mm2 | O3: Iz mm4 | P3: Wel,z mm3 | Q3: Wpl,z mm3 | R3: iz mm | S3: Avy mm2 | T3: It mm4 | U3: CLASE S235 | V3: CLASE S355 | W3: CLASE S235 | X3: CLASE S355 | Y3: Kg/m | AA3: S235 fy | AB3: S275 fy | AC3: S355 fy | AD3: curva pandeo EJE y | AE3: curva pandeo EJE z
A4: 80 | B4: 80 | C4: 46 | D4: 3.8 | E4: 5.2 | F4: 5 | G4: 764 | H4: 69.6 | I4: 59.6 | J4: 801400 | K4: 20030 | L4: 23220 | M4: 32.4 | N4: 358 | O4: 84900 | P4: 3690 | Q4: 5820 | R4: 10.5 | S4: =G4-I4*D4 -> 537.52 | T4: 7000 | U4: 1 | V4: 1 | W4: 1 | X4: 1 | Y4: 6 | Z4: 80 | AA4: =IF(AND($D4<=16,$E4<=16),235,IF(OR($D4>40,$E4>40),215,225)) -> 235 | AB4: =IF(AND($D4<=16,$E4<=16),275,IF(OR($D4>40,$E4>40),255,265)) -> 275 | AC4: =IF(AND($D4<=16,$E4<=16),355,IF(OR($D4>40,$E4>40),335,345)) -> 355 | AD4: =IF($B4/$C4>1.2,IF($E4<=40,"a","b"),IF($E4<=100,"b","d")) -> a | AE4: =IF($B4/$C4>1.2,IF($E4<=40,"b","c"),IF($E4<=100,"c","d")) -> b
A5: 100 | B5: 100 | C5: 55 | D5: 4.1 | E5: 5.7 | F5: 7 | G5: 1030 | H5: 88.6 | I5: 74.6 | J5: 1710000 | K5: 34200 | L5: 39411 | M5: 40.7 | N5: 508 | O5: 159200 | P5: 5790 | Q5: 9150 | R5: 12.4 | S5: =G5-I5*D5 -> 724.14 | T5: 120000 | U5: 1 | V5: 1 | W5: 1 | X5: 1 | Y5: 8.1 | Z5: 100 | AA5: =IF(AND($D5<=16,$E5<=16),235,IF(OR($D5>40,$E5>40),215,225)) -> 235 | AB5: =IF(AND($D5<=16,$E5<=16),275,IF(OR($D5>40,$E5>40),255,265)) -> 275 | AC5: =IF(AND($D5<=16,$E5<=16),355,IF(OR($D5>40,$E5>40),335,345)) -> 355 | AD5: =IF($B5/$C5>1.2,IF($E5<=40,"a","b"),IF($E5<=100,"b","d")) -> a | AE5: =IF($B5/$C5>1.2,IF($E5<=40,"b","c"),IF($E5<=100,"c","d")) -> b
A6: 120 | B6: 120 | C6: 64 | D6: 4.4 | E6: 6.3 | F6: 7 | G6: 1320 | H6: 107.4 | I6: 93.4 | J6: 3178000 | K6: 52960 | L6: 60730 | M6: 49 | N6: 631 | O6: 276700 | P6: 8650 | Q6: 13580 | R6: 14.5 | S6: =G6-I6*D6 -> 909.04 | T6: 17400 | U6: 1 | V6: 1 | W6: 1 | X6: 1 | Y6: 10.4 | Z6: 120 | AA6: =IF(AND($D6<=16,$E6<=16),235,IF(OR($D6>40,$E6>40),215,225)) -> 235 | AB6: =IF(AND($D6<=16,$E6<=16),275,IF(OR($D6>40,$E6>40),255,265)) -> 275 | AC6: =IF(AND($D6<=16,$E6<=16),355,IF(OR($D6>40,$E6>40),335,345)) -> 355 | AD6: =IF($B6/$C6>1.2,IF($E6<=40,"a","b"),IF($E6<=100,"b","d")) -> a | AE6: =IF($B6/$C6>1.2,IF($E6<=40,"b","c"),IF($E6<=100,"c","d")) -> b
A7: 140 | B7: 140 | C7: 73 | D7: 4.7 | E7: 6.9 | F7: 7 | G7: 1640 | H7: 126.2 | I7: 112.2 | J7: 5412000 | K7: 77320 | L7: 88340 | M7: 57.4 | N7: 764 | O7: 449200 | P7: 12310 | Q7: 19250 | R7: 16.5 | S7: =G7-I7*D7 -> 1112.66 | T7: 24500 | U7: 1 | V7: 1 | W7: 1 | X7: 1 | Y7: 12.9 | Z7: 140 | AA7: =IF(AND($D7<=16,$E7<=16),235,IF(OR($D7>40,$E7>40),215,225)) -> 235 | AB7: =IF(AND($D7<=16,$E7<=16),275,IF(OR($D7>40,$E7>40),255,265)) -> 275 | AC7: =IF(AND($D7<=16,$E7<=16),355,IF(OR($D7>40,$E7>40),335,345)) -> 355 | AD7: =IF($B7/$C7>1.2,IF($E7<=40,"a","b"),IF($E7<=100,"b","d")) -> a | AE7: =IF($B7/$C7>1.2,IF($E7<=40,"b","c"),IF($E7<=100,"c","d")) -> b
A8: 160 | B8: 160 | C8: 82 | D8: 5 | E8: 7.4 | F8: 9 | G8: 2010 | H8: 145.2 | I8: 127.2 | J8: 8693000 | K8: 108700 | L8: 123900 | M8: 65.8 | N8: 966 | O8: 683100 | P8: 19660 | Q8: 26100 | R8: 18.4 | S8: =G8-I8*D8 -> 1374 | T8: 36000 | U8: 1 | V8: 1 | W8: 1 | X8: 1 | Y8: 15.8 | Z8: 160 | AA8: =IF(AND($D8<=16,$E8<=16),235,IF(OR($D8>40,$E8>40),215,225)) -> 235 | AB8: =IF(AND($D8<=16,$E8<=16),275,IF(OR($D8>40,$E8>40),255,265)) -> 275 | AC8: =IF(AND($D8<=16,$E8<=16),355,IF(OR($D8>40,$E8>40),335,345)) -> 355 | AD8: =IF($B8/$C8>1.2,IF($E8<=40,"a","b"),IF($E8<=100,"b","d")) -> a | AE8: =IF($B8/$C8>1.2,IF($E8<=40,"b","c"),IF($E8<=100,"c","d")) -> b
A9: 180 | B9: 180 | C9: 91 | D9: 5.3 | E9: 8 | F9: 9 | G9: 2390 | H9: 164 | I9: 146 | J9: 13170000 | K9: 146300 | L9: 166400 | M9: 74.2 | N9: 1125 | O9: 1009000 | P9: 22160 | Q9: 34600 | R9: 20.5 | S9: =G9-I9*D9 -> 1616.2 | T9: 47900 | U9: 1 | V9: 1 | W9: 1 | X9: 2 | Y9: 18.8 | Z9: 180 | AA9: =IF(AND($D9<=16,$E9<=16),235,IF(OR($D9>40,$E9>40),215,225)) -> 235 | AB9: =IF(AND($D9<=16,$E9<=16),275,IF(OR($D9>40,$E9>40),255,265)) -> 275 | AC9: =IF(AND($D9<=16,$E9<=16),355,IF(OR($D9>40,$E9>40),335,345)) -> 355 | AD9: =IF($B9/$C9>1.2,IF($E9<=40,"a","b"),IF($E9<=100,"b","d")) -> a | AE9: =IF($B9/$C9>1.2,IF($E9<=40,"b","c"),IF($E9<=100,"c","d")) -> b
A10: 200 | B10: 200 | C10: 100 | D10: 5.6 | E10: 8.5 | F10: 12 | G10: 2850 | H10: 183 | I10: 159 | J10: 19430000 | K10: 194300 | L10: 220600 | M10: 82.6 | N10: 1400 | O10: 1424000 | P10: 28470 | Q10: 44610 | R10: 22.4 | S10: =G10-I10*D10 -> 1959.6 | T10: 69800 | U10: 1 | V10: 1 | W10: 1 | X10: 2 | Y10: 22.4 | Z10: 200 | AA10: =IF(AND($D10<=16,$E10<=16),235,IF(OR($D10>40,$E10>40),215,225)) -> 235 | AB10: =IF(AND($D10<=16,$E10<=16),275,IF(OR($D10>40,$E10>40),255,265)) -> 275 | AC10: =IF(AND($D10<=16,$E10<=16),355,IF(OR($D10>40,$E10>40),335,345)) -> 355 | AD10: =IF($B10/$C10>1.2,IF($E10<=40,"a","b"),IF($E10<=100,"b","d")) -> a | AE10: =IF($B10/$C10>1.2,IF($E10<=40,"b","c"),IF($E10<=100,"c","d")) -> b
A11: 220 | B11: 220 | C11: 110 | D11: 5.9 | E11: 9.2 | F11: 12 | G11: 3340 | H11: 201.6 | I11: 177.6 | J11: 27720000 | K11: 252000 | L11: 285400 | M11: 91.1 | N11: 1588 | O11: 2049000 | P11: 37250 | Q11: 58110 | R11: 24.8 | S11: =G11-I11*D11 -> 2292.16 | T11: 90700 | U11: 1 | V11: 1 | W11: 1 | X11: 2 | Y11: 26.2 | Z11: 220 | AA11: =IF(AND($D11<=16,$E11<=16),235,IF(OR($D11>40,$E11>40),215,225)) -> 235 | AB11: =IF(AND($D11<=16,$E11<=16),275,IF(OR($D11>40,$E11>40),255,265)) -> 275 | AC11: =IF(AND($D11<=16,$E11<=16),355,IF(OR($D11>40,$E11>40),335,345)) -> 355 | AD11: =IF($B11/$C11>1.2,IF($E11<=40,"a","b"),IF($E11<=100,"b","d")) -> a | AE11: =IF($B11/$C11>1.2,IF($E11<=40,"b","c"),IF($E11<=100,"c","d")) -> b
A12: 240 | B12: 240 | C12: 120 | D12: 6.2 | E12: 9.8 | F12: 15 | G12: 3910 | H12: 220.4 | I12: 190.4 | J12: 32900000 | K12: 324300 | L12: 366600 | M12: 99.7 | N12: 1914 | O12: 2836000 | P12: 47270 | Q12: 73920 | R12: 29.6 | S12: =G12-I12*D12 -> 2729.52 | T12: 129000 | U12: 1 | V12: 1 | W12: 1 | X12: 2 | Y12: 30.7 | Z12: 240 | AA12: =IF(AND($D12<=16,$E12<=16),235,IF(OR($D12>40,$E12>40),215,225)) -> 235 | AB12: =IF(AND($D12<=16,$E12<=16),275,IF(OR($D12>40,$E12>40),255,265)) -> 275 | AC12: =IF(AND($D12<=16,$E12<=16),355,IF(OR($D12>40,$E12>40),335,345)) -> 355 | AD12: =IF($B12/$C12>1.2,IF($E12<=40,"a","b"),IF($E12<=100,"b","d")) -> a | AE12: =IF($B12/$C12>1.2,IF($E12<=40,"b","c"),IF($E12<=100,"c","d")) -> b
A13: 270 | B13: 270 | C13: 135 | D13: 6.6 | E13: 10.2 | F13: 15 | G13: 4590 | H13: 249.6 | I13: 219.6 | J13: 57900000 | K13: 429000 | L13: 484000 | M13: 112 | N13: 2210 | O13: 4200000 | P13: 62200 | Q13: 97000 | R13: 30.2 | S13: =G13-I13*D13 -> 3140.64 | T13: 159000 | U13: 1 | V13: 1 | W13: 2 | X13: 3 | Y13: 36.1 | AA13: =IF(AND($D13<=16,$E13<=16),235,IF(OR($D13>40,$E13>40),215,225)) -> 235 | AB13: =IF(AND($D13<=16,$E13<=16),275,IF(OR($D13>40,$E13>40),255,265)) -> 275 | AC13: =IF(AND($D13<=16,$E13<=16),355,IF(OR($D13>40,$E13>40),335,345)) -> 355 | AD13: =IF($B13/$C13>1.2,IF($E13<=40,"a","b"),IF($E13<=100,"b","d")) -> a | AE13: =IF($B13/$C13>1.2,IF($E13<=40,"b","c"),IF($E13<=100,"c","d")) -> b
A14: 300 | B14: 300 | C14: 150 | D14: 7.1 | E14: 10.7 | F14: 15 | G14: 5380 | H14: 278.6 | I14: 248.6 | J14: 83560000 | K14: 557100 | L14: 628400 | M14: 124.6 | N14: 2568 | O14: 6038000 | P14: 80500 | Q14: 125200 | R14: 33.5 | S14: =G14-I14*D14 -> 3614.94 | T14: 201000 | U14: 1 | V14: 1 | W14: 2 | X14: 4 | Y14: 42.2 | Z14: 300 | AA14: =IF(AND($D14<=16,$E14<=16),235,IF(OR($D14>40,$E14>40),215,225)) -> 235 | AB14: =IF(AND($D14<=16,$E14<=16),275,IF(OR($D14>40,$E14>40),255,265)) -> 275 | AC14: =IF(AND($D14<=16,$E14<=16),355,IF(OR($D14>40,$E14>40),335,345)) -> 355 | AD14: =IF($B14/$C14>1.2,IF($E14<=40,"a","b"),IF($E14<=100,"b","d")) -> a | AE14: =IF($B14/$C14>1.2,IF($E14<=40,"b","c"),IF($E14<=100,"c","d")) -> b
A15: 330 | B15: 330 | C15: 160 | D15: 7.5 | E15: 11.5 | F15: 18 | G15: 6260 | H15: 307 | I15: 271 | J15: 117700000 | K15: 713100 | L15: 804300 | M15: 137.1 | N15: 3081 | O15: 7881000 | P15: 98520 | Q15: 153700 | R15: 35.5 | S15: =G15-I15*D15 -> 4227.5 | T15: 282000 | U15: 1 | V15: 1 | W15: 2 | X15: 4 | Y15: 49.1 | Z15: 330 | AA15: =IF(AND($D15<=16,$E15<=16),235,IF(OR($D15>40,$E15>40),215,225)) -> 235 | AB15: =IF(AND($D15<=16,$E15<=16),275,IF(OR($D15>40,$E15>40),255,265)) -> 275 | AC15: =IF(AND($D15<=16,$E15<=16),355,IF(OR($D15>40,$E15>40),335,345)) -> 355 | AD15: =IF($B15/$C15>1.2,IF($E15<=40,"a","b"),IF($E15<=100,"b","d")) -> a | AE15: =IF($B15/$C15>1.2,IF($E15<=40,"b","c"),IF($E15<=100,"c","d")) -> b
A16: 360 | B16: 360 | C16: 170 | D16: 8 | E16: 12.7 | F16: 18 | G16: 7270 | H16: 334.6 | I16: 298.6 | J16: 162700000 | K16: 903600 | L16: 1019000 | M16: 149.5 | N16: 3514 | O16: 10430000 | P16: 122800 | Q16: 191100 | R16: 37.9 | S16: =G16-I16*D16 -> 4881.2 | T16: 373000 | U16: 1 | V16: 1 | W16: 2 | X16: 4 | Y16: 57.1 | Z16: 360 | AA16: =IF(AND($D16<=16,$E16<=16),235,IF(OR($D16>40,$E16>40),215,225)) -> 235 | AB16: =IF(AND($D16<=16,$E16<=16),275,IF(OR($D16>40,$E16>40),255,265)) -> 275 | AC16: =IF(AND($D16<=16,$E16<=16),355,IF(OR($D16>40,$E16>40),335,345)) -> 355 | AD16: =IF($B16/$C16>1.2,IF($E16<=40,"a","b"),IF($E16<=100,"b","d")) -> a | AE16: =IF($B16/$C16>1.2,IF($E16<=40,"b","c"),IF($E16<=100,"c","d")) -> b
A17: 400 | B17: 400 | C17: 180 | D17: 8.6 | E17: 13.5 | F17: 21 | G17: 8450 | H17: 373 | I17: 331 | J17: 231300000 | K17: 1156000 | L17: 1307000 | M17: 165.5 | N17: 4269 | O17: 13180000 | P17: 146400 | Q17: 229000 | R17: 39.5 | S17: =G17-I17*D17 -> 5603.4 | T17: 511000 | U17: 1 | V17: 1 | W17: 3 | X17: 4 | Y17: 66.3 | Z17: 400 | AA17: =IF(AND($D17<=16,$E17<=16),235,IF(OR($D17>40,$E17>40),215,225)) -> 235 | AB17: =IF(AND($D17<=16,$E17<=16),275,IF(OR($D17>40,$E17>40),255,265)) -> 275 | AC17: =IF(AND($D17<=16,$E17<=16),355,IF(OR($D17>40,$E17>40),335,345)) -> 355 | AD17: =IF($B17/$C17>1.2,IF($E17<=40,"a","b"),IF($E17<=100,"b","d")) -> a | AE17: =IF($B17/$C17>1.2,IF($E17<=40,"b","c"),IF($E17<=100,"c","d")) -> b
A18: 450 | B18: 450 | C18: 190 | D18: 9.4 | E18: 14.6 | F18: 21 | G18: 9880 | H18: 420.8 | I18: 378.8 | J18: 337400000 | K18: 1500000 | L18: 1702000 | M18: 184.8 | N18: 5085 | O18: 16760000 | P18: 176400 | Q18: 276400 | R18: 41.2 | S18: =G18-I18*D18 -> 6319.28 | T18: 669000 | U18: 1 | V18: 1 | W18: 3 | X18: 4 | Y18: 77.6 | Z18: 450 | AA18: =IF(AND($D18<=16,$E18<=16),235,IF(OR($D18>40,$E18>40),215,225)) -> 235 | AB18: =IF(AND($D18<=16,$E18<=16),275,IF(OR($D18>40,$E18>40),255,265)) -> 275 | AC18: =IF(AND($D18<=16,$E18<=16),355,IF(OR($D18>40,$E18>40),335,345)) -> 355 | AD18: =IF($B18/$C18>1.2,IF($E18<=40,"a","b"),IF($E18<=100,"b","d")) -> a | AE18: =IF($B18/$C18>1.2,IF($E18<=40,"b","c"),IF($E18<=100,"c","d")) -> b
A19: 500 | B19: 500 | C19: 200 | D19: 10.2 | E19: 16 | F19: 21 | G19: 11600 | H19: 468 | I19: 426 | J19: 482000000 | K19: 1928000 | L19: 2194000 | M19: 204.3 | N19: 5987 | O19: 21420000 | P19: 214200 | Q19: 335900 | R19: 43.1 | S19: =G19-I19*D19 -> 7254.8 | T19: 893000 | U19: 1 | V19: 1 | W19: 3 | X19: 4 | Y19: 90.7 | Z19: 500 | AA19: =IF(AND($D19<=16,$E19<=16),235,IF(OR($D19>40,$E19>40),215,225)) -> 235 | AB19: =IF(AND($D19<=16,$E19<=16),275,IF(OR($D19>40,$E19>40),255,265)) -> 275 | AC19: =IF(AND($D19<=16,$E19<=16),355,IF(OR($D19>40,$E19>40),335,345)) -> 355 | AD19: =IF($B19/$C19>1.2,IF($E19<=40,"a","b"),IF($E19<=100,"b","d")) -> a | AE19: =IF($B19/$C19>1.2,IF($E19<=40,"b","c"),IF($E19<=100,"c","d")) -> b
A20: 550 | B20: 550 | C20: 210 | D20: 11.1 | E20: 17.2 | F20: 24 | G20: 13400 | H20: 515.6 | I20: 467.6 | J20: 671200000 | K20: 2441000 | L20: 2787000 | M20: 223.5 | N20: 7234 | O20: 26680000 | P20: 254100 | Q20: 400500 | R20: 44.5 | S20: =G20-I20*D20 -> 8209.64 | T20: 1230000 | U20: 1 | V20: 1 | W20: 4 | X20: 4 | Y20: 106 | Z20: 550 | AA20: =IF(AND($D20<=16,$E20<=16),235,IF(OR($D20>40,$E20>40),215,225)) -> 225 | AB20: =IF(AND($D20<=16,$E20<=16),275,IF(OR($D20>40,$E20>40),255,265)) -> 265 | AC20: =IF(AND($D20<=16,$E20<=16),355,IF(OR($D20>40,$E20>40),335,345)) -> 345 | AD20: =IF($B20/$C20>1.2,IF($E20<=40,"a","b"),IF($E20<=100,"b","d")) -> a | AE20: =IF($B20/$C20>1.2,IF($E20<=40,"b","c"),IF($E20<=100,"c","d")) -> b
A21: 600 | B21: 600 | C21: 220 | D21: 12 | E21: 19 | F21: 24 | G21: 15600 | H21: 562 | I21: 514 | J21: 920800000 | K21: 3069000 | L21: 3512000 | M21: 243 | N21: 8378 | O21: 33870000 | P21: 307900 | Q21: 485600 | R21: 46.6 | S21: =G21-I21*D21 -> 9432 | T21: 1650000 | U21: 1 | V21: 1 | W21: 4 | X21: 4 | Y21: 122 | Z21: 600 | AA21: =IF(AND($D21<=16,$E21<=16),235,IF(OR($D21>40,$E21>40),215,225)) -> 225 | AB21: =IF(AND($D21<=16,$E21<=16),275,IF(OR($D21>40,$E21>40),255,265)) -> 265 | AC21: =IF(AND($D21<=16,$E21<=16),355,IF(OR($D21>40,$E21>40),335,345)) -> 345 | AD21: =IF($B21/$C21>1.2,IF($E21<=40,"a","b"),IF($E21<=100,"b","d")) -> a | AE21: =IF($B21/$C21>1.2,IF($E21<=40,"b","c"),IF($E21<=100,"c","d")) -> b

Sheet DATOS
A2: MATERIALES
A3: S235
A4: S275
A5: S355
A8: COACCIONES
A9: MÉNSULA
A10: ARTICULADO-ARTICULADO
A11: ARTICULADO-EMPOTRADO
A12: EMPOTRADO-EMPOTRADO
A16: NEd-COMPRESIÓN (kN)
A17: NEd-TRACCIÓN (kN)
A21: VOLADIZO
... A31: NO
