Workbook

Sheet COMPROBACIÓN
B2: AB
B3: DATOS DE LA SECCIÓN Y DEL MATERIAL
B4: CLASE RESISTENTE | C4: GL24h | D4: A (mm2) | E4: =C5*C6 -> 20000 | F4: fm,k (N/mm2) | G4: =VLOOKUP($C$4,'DATOS MATERIAL'!$A$8:$M$35,2,FALSE) -> 24 | H4: fm,d (N/mm2) | I4: =C14*C9*$C$32*G4/$C$8 -> 14.641985 | M4: =LEFT(C4,1) -> G | N4: =IF(M4="G","LAMINADA","ASERRADA") -> LAMINADA | Q4: kc,90
B5: Ancho b (mm) | C5: 100 | D5: Wy (mm3) | E5: =C5*C6^2/6 -> 666666.67 | F5: ft,0,k (N/mm2) | G5: =VLOOKUP($C$4,'DATOS MATERIAL'!$A$8:$M$35,3,FALSE) -> 16.5 | H5: ft,0,d (N/mm2) | I5: =C14*C9*$C$32*G5/$C$8 -> 10.066365 | N5: 1 | O5: 2 | P5: 3 | Q5: CASO GENERAL | R5: DURMIENTE | S5: SOBRE APOYOS
B6: Canto h (mm) | C6: 200 | D6: Iy (mm4) | E6: =C5*C6^3/12 -> 66666667 | F6: ft,90,k (N/mm2) | G6: =VLOOKUP($C$4,'DATOS MATERIAL'!$A$8:$M$35,4,FALSE) -> 0.4 | H6: ft,90,d (N/mm2) | I6: =C14*C12*$C$32*G6/$C$8 -> 0.26646736 | M6: LAMINADA | N6: 0.6 | O6: 0.8 | P6: 2 | Q6: 1 | R6: =IF(C48>=2*C6,1.5,1) -> 1.5 | S6: =IF(C48>=2*C6,1.75,1) -> 1.75
B7: L (m) | C7: 1 | D7: iy (mm) | E7: =(E6/E4)^0.5 -> 57.735027 | F7: fc,0,k (N/mm2) | G7: =VLOOKUP($C$4,'DATOS MATERIAL'!$A$8:$M$35,5,FALSE) -> 24 | H7: fc,0,d (N/mm2) | I7: =C14*$C$32*G7/$C$8 -> 13.310895 | M7: ASERRADA | N7: 0.6 | O7: 0.8 | P7: 2 | Q7: 1 | R7: =IF(C48>=2*C6,1.25,1) -> 1.25 | S7: =IF(C48>=2*C6,1.5,1) -> 1.5
B8: γM | C8: =IF(N4="ASERRADA",1.3,1.25) -> 1.25 | D8: bef (mm) | E8: =0.67*C5 -> 67 | F8: fc,90,k (N/mm2) | G8: =VLOOKUP($C$4,'DATOS MATERIAL'!$A$8:$M$35,6,FALSE) -> 2.7 | H8: fc,90,d (N/mm2) | I8: =C14*$C$32*G8/$C$8 -> 1.4974757
B9: kh | C9: =MAX(IF(N4="ASERRADA",MIN(1.3,(150/C6)^0.2),MIN(1.1,(600/C6)^0.1)),1) -> 1.1 | D9: Wz (mm3) | E9: =C6*C5^2/6 -> 333333.33 | F9: fv,g,k (N/mm2) | G9: =VLOOKUP($C$4,'DATOS MATERIAL'!$A$8:$M$35,7,FALSE) -> 2.7 | H9: fv,g,d (N/mm2) | I9: =C14*$C$32*G9/$C$8 -> 1.4974757
B10: CONSIDERAR kvol | C10: SÍ | D10: Iz (mm4) | E10: =C6*C5^3/12 -> 16666667 | F10: E0,medio (N/mm2) | G10: =VLOOKUP($C$4,'DATOS MATERIAL'!$A$8:$M$35,8,FALSE) -> 11600
B11: L zona traccionada (mm) | C11: 200 | D11: iy (mm) | E11: =(E10/E4)^0.5 -> 28.867513 | F11: E0,k (N/mm2) | G11: =VLOOKUP($C$4,'DATOS MATERIAL'!$A$8:$M$35,9,FALSE) -> 9400
B12: kvol | C12: =IF(C10="NO",1,IF(N4="LAMINADA",(10000000/(C5*C6*C11))^0.2,1)) -> 1.2011244 | D12: hef (mm) | E12: =0.67*C6 -> 134 | F12: E90,medio (N/mm2) | G12: =VLOOKUP($C$4,'DATOS MATERIAL'!$A$8:$M$35,10,FALSE) -> 390
B13: CONSIDERAR ksys | C13: SÍ | D13: Jtor (mm4) | E13: =MAX(0.5*C5,0.5*C6)*(MIN(0.5*C5,0.5*C6))^3*(16/3-3.36*(MIN(0.5*C5,0.5*C6)/MAX(0.5*C5,0.5*C6))*(1-((MIN(0.5*C5,0.5*C6))^4/(12*(MAX(0.5*C5,0.5*C6))^4)))) -> 45776042 | F13: Gmedio (N/mm2) | G13: =VLOOKUP($C$4,'DATOS MATERIAL'!$A$8:$M$35,11,FALSE) -> 720
B14: ksys | C14: =IF(C13="SÍ",1.1,1) -> 1.1 | D14: kforma | E14: =MIN(2,1+0.15*MAX(C5:C6)/MIN(C5:C6)) -> 1.3 | F14: ρk (kg/m3) | G14: =VLOOKUP($C$4,'DATOS MATERIAL'!$A$8:$M$35,12,FALSE) -> 380 | H14: INCLUIR PESO PROPIO EN LOS CÁLCULOS | K14: SÍ | M14: PESO PROPIO (kN/m) | N14: =IF(K14="SÍ",C5*C6*G14/100000000,0) -> 0.076
B15: CLASE DE SERVICIO | C15: 3 | F15: ρmedio (kg/m3) | G15: =VLOOKUP($C$4,'DATOS MATERIAL'!$A$8:$M$35,13,FALSE) -> 380
B16: CARGAS EN VALOR CARACTERÍSTICO
C17: kN/m | D17: P1 (kN) | E17: P2 (kN) | F17: P3 (kN) | G17: γ | H17: ψ0 | I17: ψ1 | J17: ψ2 | K17: kmod
B18: DISTANCIA HASTA EL APOYO IZDO. an (m) | D18: 0 | E18: 0 | F18: 0 | N18: kN/m | O18: P1 (kN) | P18: P2 (kN) | Q18: P3 (kN)
B19: PERMANENTE | C19: 0.4 | D19: 0 | E19: 0 | F19: 0 | G19: 1.35 | H19: 1 | I19: 1 | J19: 1 | K19: =IF($N$4="ASERRADA",VLOOKUP($M19,'DATOS MATERIAL'!$B$39:$D$53,2,FALSE),VLOOKUP($M19,'DATOS MATERIAL'!$B$39:$D$53,3,FALSE)) -> 0.5 | M19: =B19&$C$15 -> PERMANENTE3
B20: LARGA | C20: 0 | D20: 0 | E20: 0 | F20: 0 | G20: 1.35 | H20: 1 | I20: 1 | J20: 1 | K20: =IF($N$4="ASERRADA",VLOOKUP($M20,'DATOS MATERIAL'!$B$39:$D$53,2,FALSE),VLOOKUP($M20,'DATOS MATERIAL'!$B$39:$D$53,3,FALSE)) -> 0.55 | M20: =B20&$C$15 -> LARGA3
B21: MEDIA | C21: 0 | D21: 0 | E21: 0 | F21: 0 | G21: 1.5 | H21: 0.7 | I21: 0.5 | J21: 0.3 | K21: =IF($N$4="ASERRADA",VLOOKUP($M21,'DATOS MATERIAL'!$B$39:$D$53,2,FALSE),VLOOKUP($M21,'DATOS MATERIAL'!$B$39:$D$53,3,FALSE)) -> 0.65 | M21: =B21&$C$15 -> MEDIA3
B22: CORTA | C22: 0.8 | D22: 0 | E22: 0 | F22: 0 | G22: 1.5 | H22: 0.6 | I22: 0.5 | J22: 0 | K22: =IF($N$4="ASERRADA",VLOOKUP($M22,'DATOS MATERIAL'!$B$39:$D$53,2,FALSE),VLOOKUP($M22,'DATOS MATERIAL'!$B$39:$D$53,3,FALSE)) -> 0.7 | M22: =B22&$C$15 -> CORTA3
B23: INSTANTÁNEA | C23: 0 | D23: 0 | E23: 0 | F23: 0 | G23: 1 | H23: 0 | I23: 0 | J23: 0 | K23: =IF($N$4="ASERRADA",VLOOKUP($M23,'DATOS MATERIAL'!$B$39:$D$53,2,FALSE),VLOOKUP($M23,'DATOS MATERIAL'!$B$39:$D$53,3,FALSE)) -> 0.9 | M23: =B23&$C$15 -> INSTANTÁNEA3
B24: VALOR CARACTERÍSTICO | C24: =SUM(C19:C23)+$N$14 -> 1.276 | D24: =SUM(D19:D23) -> 0 | E24: =SUM(E19:E23) -> 0 | F24: =SUM(F19:F23) -> 0 | M24: % CORTA DURACIÓN | N24: =(C23+C22+C21)/(C19+N14+C20) -> 1.6806723 | O24: =IF(D24=0,0,(D23+D22+D21)/(D19+D20)) -> 0 | P24: =IF(E24=0,0,(E23+E22+E21)/(E19+E20)) -> 0 | Q24: =IF(F24=0,0,(F23+F22+F21)/(F19+F20)) -> 0
B25: VALOR DE CÁLCULO | C25: =(C19+N14)*$G19+C20*$G20+C21*$G21+C22*$G22+C23*$G23 -> 1.8426 | D25: =D19*$G19+D20*$G20+D21*$G21+D22*$G22+D23*$G23 -> 0 | E25: =E19*$G19+E20*$G20+E21*$G21+E22*$G22+E23*$G23 -> 0 | F25: =F19*$G19+F20*$G20+F21*$G21+F22*$G22+F23*$G23 -> 0
B26: VALOR DE CÁLCULO. INCENDIO | C26: =(C19+N14)*G19+C20*G20+C21*G21*I21+C22*G22*J22 -> 0.6426 | D26: =D19*G19+D20*G20+D21*G21*I21+D22*G22*J22 -> 0 | E26: =E19*G19+E20*G20+E21*G21*I21+E22*G22*J22 -> 0 | F26: =F19*G19+F20*G20+F21*G21*I21+F22*G22*J22 -> 0
B27: COMBINACIÓN CARACTERÍSTICA | C27: =C19+N14+C20+C21+C22*$H22+C23*$H23 -> 0.956 | D27: =D19+D20+D21+D22*$H22+D23*$H23 -> 0 | E27: =E19+E20+E21+E22*$H22+E23*$H23 -> 0 | F27: =F19+F20+F21+F22*$H22+F23*$H23 -> 0
B28: COMBINACIÓN CORTA DURACIÓN | C28: =C22*$I22+C23*$I23 -> 0.4 | D28: =D22*$I22+D23*$I23 -> 0 | E28: =E19+E20+E21*$I21+E22*$J22+E23*$J23 -> 0 | F28: =F19+F20+F21*$I21+F22*$J22+F23*$J23 -> 0
B29: COMBINACIÓN CASI PERMANENTE | C29: =C19+N14+C20+C21*$J21+C22*$J22+C23*$J23 -> 0.476 | D29: =D19+D20+D21*$J21+D22*$J22+D23*$J23 -> 0 | E29: =EE22*$I22+E23*$I23 -> 0 | F29: =F22*$I22+F23*$I23 -> 0
B30: COMBINACIÓN PARA FLECHA ACTIVA | C30: =(C19+N14)*(1-G30)+C20+C21+C22*$H22+C23*$H23 -> 0.48 | D30: =D19*(1-G30)+D20+D21+D22*$H22+D23*$H23 -> 0 | E30: =E19*(1-G30)+E20+E21+E22*$H22+E23*$H23 -> 0 | F30: =F19*(1-G30)+F20+F21+F22*$H22+F23*$H23 -> 0 | G30: 1 | H30: % C. PERMANENTE PREVIO A LA PUESTA EN OBRA
B31: kmod de la carga | C31: =IF(C25=0,0,(K19*(C19+N14)*$G19+K20*C20*$G20+K21*C21*$G21+K22*C22*$G22+K23*C23*$G23)/C25) -> 0.63025073 | D31: =IF(D25=0,0,(K19*D19*$G19+K20*D20*$G20+K21*D21*$G21+K22*D22*$G22+K23*D23*$G23)/D25) -> 0 | E31: =IF(E25=0,0,(K19*E19*$G19+K20*E20*$G20+K21*E21*$G21+K22*E22*$G22+K23*E23*$G23)/E25) -> 0 | F31: =IF(F25=0,0,(K19*F19*$G19+K20*F20*$G20+K21*F21*$G21+K22*F22*$G22+K23*F23*$G23)/F25) -> 0
B32: kmod global | C32: =(C31*C25*C8+D31*D25+E31*E25+F31*F25)/(C25*C8+D25+E25+F25) -> 0.63025073
B33: ESFUERZOS EN VALOR DE CÁLCULO
B34: Mi (kN) | C34: 0 | D34: R1 (kN) | E34: =C25*C7*0.5+D25*(C7-D18)/C7+E25*(C7-E18)/C7+F25*(C7-F18)/C7+C34/C7-C35/C7 -> 0.9213 | F34: Vd,centro de vano | G34: =-E34+C25*0.5*C7+IF(D18<0.5*C7,D25,0)+IF(E18<0.5*C7,E25,0)+IF(F18<0.5*C7,F25,0) -> 0 | H34: =-E34+C25*D18 -> -0.9213 | I34: =-E34+C25*E18+D25 -> -0.9213 | J34: =-E34+C25*F18+D25+E25 -> -0.9213 | K34: Van (kN)
B35: Md (kN) | C35: 0 | D35: R2 (kN) | E35: =C25*C7+D25+E25+F25-E34+C35/C7-C34/C7 -> 0.9213 | F35: x Mmax | G35: =IF(H36>=MAX(G36:J36),D18,IF(I36>=MAX(G36:J36),E18,IF(J36>=MAX(G36:J36),F18,0.5*C7))) -> 0.5 | H35: =H34+D25 -> -0.9213 | I35: =I34+E25 -> -0.9213 | J35: =J34+F25 -> -0.9213 | K35: Van,b (kN)
B36: INCLINACIÓN DE LA SECCIÓN (º) | C36: 0 | F36: Md,centro de vano | G36: =C25*C7^2/8+D25*(C7-D18)*D18/C7+E25*(C7-E18)*E18/C7+F25*(C7-F18)*F18/C7-(C34+C35)*0.5 -> 0.230325 | H36: =-$C$25*D18^2*0.5+$C$25*$C$7*D18*0.5+D25*($C$7-D18)*D18/$C$7+E25*($C$7-E18)*D18/$C$7+F25*($C$7-F18)*D18/$C$7-$C$34*($C$7-D18)/$C$7-$C$35*D18/$C$7 -> 0 | I36: =-$C$25*E18^2*0.5+$C$25*$C$7*E18*0.5+D25*D18*($C$7-E18)/$C$7+E25*($C$7-E18)*E18/$C$7+F25*($C$7-F18)*E18/$C$7-$C$34*($C$7-E18)/$C$7-$C$35*E18/$C$7 -> 0 | J36: =-$C$25*F18^2*0.5+$C$25*$C$7*F18*0.5+E25*E18*($C$7-F18)/$C$7+F25*($C$7-F18)*F18/$C$7+N27*($C$7-O27)*F18/$C$7-$C$34*($C$7-F18)/$C$7-$C$35*F18/$C$7 -> 0 | K36: Man (mkN)
B37: COMPROBACIONES DE SOLICITACIONES AISLADAS | F37: COEF. SEG | H37: COMBINADAS | J37: COEF. SEG
B38: NEd-COMPRESIÓN (kN) | C38: 0 | D38: =IF(B38="Ned-TRACCIÓN (kN)","Nt,Rd","NRdz") -> NRdz | E38: =IF(B38="Ned-TRACCIÓN (kN)",E4*I5/1000,E4*I7/1000*C65) -> 266.83764 | F38: =C38/E38 -> 0 | G38: =IF(E38>=C38,"CUMPLE","NO CUMPLE") -> CUMPLE | H38: FLEXIÓN ESVIADA | J38: =MAX(0.7*C40/E40+C41/E41,C40/E40+0.7*C41/E41) -> 0.023595674 | K38: =IF(J38<=1,"CUMPLE","NO CUMPLE") -> CUMPLE
B39: CONSIDERAR FLEXIÓN | C39: SÍ | D39: =IF(B38="Ned-TRACCIÓN (kN)","","NRdy") -> NRdy | E39: =IF(B38="Ned-TRACCIÓN (kN)","",E4*I7/1000*G65) -> 256.79156 | F39: =IF(B38="Ned-TRACCIÓN (kN)","",C38/E39) -> 0 | G39: =IF(B38="Ned-TRACCIÓN (kN)","",IF(E39>=C38,"CUMPLE","NO CUMPLE")) -> CUMPLE | H39: FLEXIÓN Y AXIL. PIEZA | J39: =IF(B38="Ned-COMPRESIÓN (kN)",MAX((C38/MIN(E38:E39))+0.7*C40/E40+C41/E41,(C38/MIN(E38:E39))+C40/E40+0.7*C41/E41),MAX(C38/E38+0.7*C40/E40+C41/E41,C38/E38+C40/E40+0.7*C41/E41)) -> 0.023595674 | K39: =IF(J39<=1,"CUMPLE","NO CUMPLE") -> CUMPLE
B40: My,Ed (mkN) | C40: =IF(C39="NO",0,COS(PI()/180*C36)*MAX(ABS(C34),ABS(C35),ABS(G36),ABS(H36),ABS(I36),ABS(J36))) -> 0.230325 | D40: MRdy (mkN) | E40: =IF(C50="SÍ",G50,E5*I4/1000000) -> 9.7613233 | F40: =C40/E40 -> 0.023595674 | G40: =IF(E40>=C40,"CUMPLE","NO CUMPLE") -> CUMPLE | H40: FLEXIÓN Y AXIL. SECCIÓN | J40: =IF(B38="Ned-COMPRESIÓN (kN)",MAX(((C38*1000/(C5*C6))/I7)^2+0.7*C40/E40+C41/E41,((C38*1000/(C5*C6))/I7)^2+C40/E40+0.7*C41/E41),MAX((C38*1000/(C5*C6))/I7+0.7*C40/E40+C41/E41,(C38*1000/(C5*C6))/I7+C40/E40+0.7*C41/E41)) -> 0.023595674 | K40: =IF(J40<=1,"CUMPLE","NO CUMPLE") -> CUMPLE
B41: Mz,Ed (mkN) | C41: =IF(C39="NO",0,SIN(PI()/180*C36)*MAX(ABS(C34),ABS(C35),ABS(G36),ABS(H36),ABS(I36),ABS(J36))) -> 0 | D41: MRdz (mkN) | E41: =E9*I4/1000000 -> 4.8806617 | F41: =C41/E41 -> 0 | G41: =IF(E41>=C41,"CUMPLE","NO CUMPLE") -> CUMPLE | H41: TRACCIÓN PERP. Y CORTANTE | J41: =C45/E45+C42/E42+C43/E43 -> 0.068526993 | K41: =IF(J41<=1,"CUMPLE","NO CUMPLE") -> CUMPLE
B42: Vz,Ed (kN) | C42: =IF(C39="NO",0,COS(PI()/180*C36)*MAX(ABS(E34),ABS(E35),ABS(H34),ABS(H35),ABS(I34),ABS(I35),ABS(J34),ABS(J35))) -> 0.9213 | D42: VRdz (kN) | E42: =E8*C6*0.67*I9/1000 -> 13.444337 | F42: =C42/E42 -> 0.068526993 | G42: =IF(E42>=C42,"CUMPLE","NO CUMPLE") -> CUMPLE | H42: COMPRESIÓN INCLINADA | J42: =(J43*1000/(C5*C6/SIN(J44*PI()/180)))*(I7*(SIN(J44*PI()/180)^2/I8+COS(J44*PI()/180)^2))/I7 -> 0 | K42: =IF(J42<=1,"CUMPLE","NO CUMPLE") -> CUMPLE
B43: Vy,Ed (kN) | C43: =IF(C39="NO",0,SIN(PI()/180*C36)*MAX(ABS(E34),ABS(E35),ABS(H34),ABS(H35),ABS(I34),ABS(I35),ABS(J34),ABS(J35))) -> 0 | D43: VRdy (kN) | E43: =E12*C5*0.67*I9/1000 -> 13.444337 | F43: =C43/E43 -> 0 | G43: =IF(E43>=C43,"CUMPLE","NO CUMPLE") -> CUMPLE | H43: NEd,α (kN). COMPRESIÓN | J43: 0
B44: TEd (mkN) | C44: 0 | D44: TRd (mkN) | E44: =E13*I9*E14/1000000 -> 89.113065 | F44: =C44/E44 -> 0 | G44: =IF(E44>=C44,"CUMPLE","NO CUMPLE") -> CUMPLE | H44: α (º) | J44: 0.1
B45: NEd,90 (kN). TRACCIÓN PERPENDICULAR | C45: 0 | D45: NT,Rd,90 (kN) | E45: =C11*C5*I6/1000 -> 5.3293473 | F45: =C45/E45 -> 0 | G45: =IF(E45>=C45,"CUMPLE","NO CUMPLE") -> CUMPLE
B46: NEd,90 (kN). COMPRESIÓN PERPENDICULAR | C46: 0 | D46: NC,Rd,90 (kN) | E46: =E48*D49*I8/1000 -> 28.826408 | F46: =C46/E46 -> 0 | G46: =IF(E46>=C46,"CUMPLE","NO CUMPLE") -> CUMPLE
B47: l (mm) | C47: 50 | D47: lef (mm) | E47: =IF((C47+IF(F47="UN LADO",30,60))<=(MAX(C47+IF(F47="UN LADO",C48*0.5,C48),IF(F47="UN LADO",2*C47,3*C47))),C47+IF(F47="UN LADO",30,60),MAX(C47+IF(F47="UN LADO",C48*0.5,C48),IF(F47="UN LADO",C47*2,C47*3))) -> 110 | F47: DOS LADOS
B48: l1 (mm) | C48: 500 | D48: Aef (mm2) | E48: =E47*C5 -> 11000
B49: kc,90 | C49: SOBRE APOYOS | D49: =IF(C49="DURMIENTE",VLOOKUP(N4,M6:S7,6,FALSE),IF(C49="SOBRE APOYOS",VLOOKUP(N4,M6:S7,7,FALSE),1)) -> 1.75
B50: PANDEO LATERAL | C50: NO SE COMPRUEBA | D50: σcry (N/mm2) | E50: =PI()*(G11*MIN(E6,E10)*G13*E13)^0.5/(C51*C7*1000*MAX(E5,E9)) -> 338.62171 | F50: Mrdy (mkN) | G50: =E5*I4*G51/1000000 -> 9.7613233
B51: βv | C51: 1 | D51: λrel,m | E51: =(G4/E50)^0.5 -> 0.26622462 | F51: kcrit | G51: =MIN(1,IF(E51<=1.4,1.56-0.75*E51,1/E51^2)) -> 1
B52: FLECHA
C53: kdef | D53: =VLOOKUP(N4,M6:P7,C15+1,FALSE) -> 2 | E53: TIPO DE TABIQUES | G53: OTROS CASOS | H53: =IF(G53="FRÁGILES",500,IF(G53="ORDINARIOS",400,300)) -> 300
B54: COMBINACIÓN | C54: CARACTERÍSTICA | D54: ACTIVA | E54: CORTA D. | F54: CASI PERM.
B55: Inicial (mm) | C55: =5*C27*(C7*1000)^4/(384*G10*E6)+D27*1000*(D18*1000)^2*(C7*1000-D18*1000)^2/(3*C7*1000*G10*E6)+E27*1000*(E18*1000)^2*(C7*1000-E18*1000)^2/(3*C7*1000*G10*E6)+F27*1000*(F18*1000)^2*(C7*1000-F18*1000)^2/(3*C7*1000*G10*E6)-(C34+C35)*C27*1000000*(C7*1000)^2/(16*G10*E6*C25) -> 0.016096444 | D55: =5*C30*(C7*1000)^4/(384*G10*E6)+D30*1000*(D18*1000)^2*(C7*1000-D18*1000)^2/(3*C7*1000*G10*E6)+E30*1000*(E18*1000)^2*(C7*1000-E18*1000)^2/(3*C7*1000*G10*E6)+F30*1000*(F18*1000)^2*(C7*1000-F18*1000)^2/(3*C7*1000*G10*E6)-(C34+C35)*C30*1000000*(C7*1000)^2/(16*G10*E6*C25) -> 0.0080818966 | E55: =N24*5*C28*(C7*1000)^4/(384*G10*E6)+O24*D28*1000*(D18*1000)^2*(C7*1000-D18*1000)^2/(3*C7*1000*G10*E6)+P24*E28*1000*(E18*1000)^2*(C7*1000-E18*1000)^2/(3*C7*1000*G10*E6)+Q24*F28*1000*(F18*1000)^2*(C7*1000-F18*1000)^2/(3*C7*1000*G10*E6)-N24*(C34+C35)*C28*1000000*(C7*1000)^2/(16*G10*E6*C25) -> 0.011319183 | F55: =5*C29*(C7*1000)^4/(384*G10*E6)+D29*1000*(D18*1000)^2*(C7*1000-D18*1000)^2/(3*C7*1000*G10*E6)+E29*1000*(E18*1000)^2*(C7*1000-E18*1000)^2/(3*C7*1000*G10*E6)+F29*1000*(F18*1000)^2*(C7*1000-F18*1000)^2/(3*C7*1000*G10*E6)-(C34+C35)*C29*1000000*(C7*1000)^2/(16*G10*E6*C25) -> 0.0080145474
B56: Diferida (mm) | C56: =F55*D53 -> 0.016029095 | D56: =D55*D53 -> 0.016163793 | E56: =F55*D53 -> 0.016029095 | F56: =F55*D53 -> 0.016029095
B57: Total (mm) | C57: =C55+C56 -> 0.032125539 | D57: =D55+D56 -> 0.02424569 | E57: =E55+E56 -> 0.027348278 | F57: =F55+F56 -> 0.024043642
B58: Relativa L/n | D58: ="L/"&ABS(FLOOR($C$7*1000/D57,1)) -> L/41244 | E58: ="L/"&ABS(FLOOR($C$7*1000/E57,1)) -> L/36565 | F58: ="L/"&ABS(FLOOR($C$7*1000/F57,1)) -> L/41591
B59: LONGITUD DE PANDEO
B60: PANDEO EN Y | E60: PANDEO EN Z
B61: COACCIONES EN EXTREMOS | C61: ARTICULADO-ARTICULADO | E61: COACCIONES EN EXTREMOS | G61: ARTICULADO-ARTICULADO
B63: Lyk (m) | C63: =IF(C61="OTRO",K63,IF(C61="MÉNSULA",2*$C$7,IF(C61="ARTICULADO-ARTICULADO",$C$7,IF(C61="ARTICULADO-EMPOTRADO",0.7*$C$7,IF(C61="EMPOTRADO-EMPOTRADO",0.5*$C$7,""))))) -> 1 | E63: Lzk (m) | G63: =IF(G61="OTRO",K64,IF(G61="MÉNSULA",2*$C$7,IF(G61="ARTICULADO-ARTICULADO",$C$7,IF(G61="ARTICULADO-EMPOTRADO",0.7*$C$7,IF(G61="EMPOTRADO-EMPOTRADO",0.5*$C$7,""))))) -> 1 | J63: Lyk (m) | K63: 0
B64: λyk | C64: =C63*1000/E7 -> 17.320508 | E64: λzk | G64: =G63*1000/E11 -> 34.641016 | J64: Lzk (m) | K64: 0
B65: χy | C65: =1/(C68+(C68^2-C67^2)^0.5) -> 1.0023279 | E65: χz | G65: =1/(G68+(G68^2-G67^2)^0.5) -> 0.96459159
B66: σcry (N/mm2) | C66: =PI()^2*G11/C64^2 -> 309.2476 | E66: σcrz (N/mm2) | G66: =PI()^2*G11/G64^2 -> 77.311901
B67: λrel,y | C67: =(G7/C66)^0.5 -> 0.27858161 | E67: λrel,z | G67: =(G7/G66)^0.5 -> 0.55716323
B68: ky | C68: =0.5*(1+C69*(C67-0.3)+C67^2) -> 0.53773294 | E68: kz | G68: =0.5*(1+G69*(G67-0.3)+G67^2) -> 0.66807359
B69: βc | C69: =IF(N4="ASERRADA",0.2,0.1) -> 0.1 | E69: βc | G69: =IF(N4="ASERRADA",0.2,0.1) -> 0.1
B70: DATOS DE LA SECCIÓN Y DEL MATERIAL. SITUACIÓN DE INCENDIO | F70: ηfi | G70: 0.8
B71: CLASE RESISTENTE | C71: =C4 -> GL24h | D71: A (mm2) | E71: =C72*C73 -> 6422 | F71: fm,k (N/mm2) | G71: =VLOOKUP($C$4,'DATOS MATERIAL'!$A$8:$M$35,2,FALSE) -> 24 | H71: fm,d (N/mm2) | I71: =G71*$C$75 -> 27.6
B72: Ancho b (mm) | C72: =IF(C74=1,C5,C5-2*C77) -> 38 | D72: Wy (mm3) | E72: =C72*C73^2/6 -> 180886.33 | F72: ft,0,k (N/mm2) | G72: =VLOOKUP($C$4,'DATOS MATERIAL'!$A$8:$M$35,3,FALSE) -> 16.5 | H72: ft,0,d (N/mm2) | I72: =G72*$C$75 -> 18.975
B73: Canto h (mm) | C73: =IF(C74=4,C6-2*C77,C6-C77) -> 169 | D73: Iy (mm4) | E73: =C72*C73^3/12 -> 15284895 | F73: ft,90,k (N/mm2) | G73: =VLOOKUP($C$4,'DATOS MATERIAL'!$A$8:$M$35,4,FALSE) -> 0.4 | H73: ft,90,d (N/mm2) | I73: =G73*$C$75 -> 0.46
B74: CARAS EXPUESTAS | C74: 3 | D74: iy (mm) | E74: =(E73/E71)^0.5 -> 48.786098 | F74: fc,0,k (N/mm2) | G74: =VLOOKUP($C$4,'DATOS MATERIAL'!$A$8:$M$35,5,FALSE) -> 24 | H74: fc,0,d (N/mm2) | I74: =G74*$C$75 -> 27.6
B75: kfi | C75: =IF(N71="ASERRADA",1.25,1.15) -> 1.15 | D75: bef (mm) | E75: =0.67*C72 -> 25.46 | F75: fc,90,k (N/mm2) | G75: =VLOOKUP($C$4,'DATOS MATERIAL'!$A$8:$M$35,6,FALSE) -> 2.7 | H75: fc,90,d (N/mm2) | I75: =G75*$C$75 -> 3.105
B76: t (min) | C76: 30 | D76: Wz (mm3) | E76: =C73*C72^2/6 -> 40672.667 | F76: fv,g,k (N/mm2) | G76: =VLOOKUP($C$4,'DATOS MATERIAL'!$A$8:$M$35,7,FALSE) -> 2.7 | H76: fv,g,d (N/mm2) | I76: =G76*$C$75 -> 3.105
B77: def (mm) | C77: =C78+C80*C81 -> 31 | D77: Iz (mm4) | E77: =C73*C72^3/12 -> 772780.67 | F77: E0,medio (N/mm2) | G77: =VLOOKUP($C$4,'DATOS MATERIAL'!$A$8:$M$35,8,FALSE) -> 11600 | H77: E0,medio,d (N/mm2) | I77: =G77*$C$75 -> 13340
B78: dchar (mm) | C78: =C79*C76 -> 24 | D78: iy (mm) | E78: =(E77/E71)^0.5 -> 10.969655 | F78: E0,k (N/mm2) | G78: =VLOOKUP($C$4,'DATOS MATERIAL'!$A$8:$M$35,9,FALSE) -> 9400 | H78: E0,d (N/mm2) | I78: =G78*$C$75 -> 10810
B79: βn | C79: =IF(C68="LAMINADA",0.7,0.8) -> 0.8 | D79: hef (mm) | E79: =0.67*C73 -> 113.23 | F79: E90,medio (N/mm2) | G79: =VLOOKUP($C$4,'DATOS MATERIAL'!$A$8:$M$35,10,FALSE) -> 390 | H79: E90,medio,d (N/mm2) | I79: =G79*$C$75 -> 448.5
B80: k0 | C80: 1 | D80: Jtor (mm4) | E80: =MAX(0.5*C72,0.5*C73)*(MIN(0.5*C72,0.5*C73))^3*(16/3-3.36*(MIN(0.5*C72,0.5*C73)/MAX(0.5*C72,0.5*C73))*(1-((MIN(0.5*C72,0.5*C73))^4/(12*(MAX(0.5*C72,0.5*C73))^4)))) -> 2653337.4 | F80: Gmedio (N/mm2) | G80: =VLOOKUP($C$4,'DATOS MATERIAL'!$A$8:$M$35,11,FALSE) -> 720 | H80: Gmedio,d (N/mm2) | I80: =G80*$C$75 -> 828
B81: d0 (mm) | C81: 7 | D81: kforma | E81: =MIN(2,1+0.15*MAX(C72:C73)/MIN(C72:C73)) -> 1.6671053 | F81: ρk (kg/m3) | G81: =VLOOKUP($C$4,'DATOS MATERIAL'!$A$8:$M$35,12,FALSE) -> 380
B82: COMPROBACIONES DE SOLICITACIONES AISLADAS. INCENDIO | F82: COEF. SEG | H82: COMBINADAS. INCENDIO | J82: COEF. SEG
B83: =B38 -> NEd-COMPRESIÓN (kN) | C83: =$G$70*C38 -> 0 | D83: =IF(B83="Ned-TRACCIÓN (kN)","Nt,Rd","NRdz") -> NRdz | E83: =IF(B83="Ned-TRACCIÓN (kN)",E71*I72/1000,E71*I74/1000*C103) -> 177.10188 | G83: =IF(E83>=C83,"CUMPLE","NO CUMPLE") -> CUMPLE | H83: FLEXIÓN ESVIADA | J83: =MAX(0.7*C85/E85+C86/E86,C85/E85+0.7*C86/E86) -> 0.036907636 | K83: =IF(J83<=1,"CUMPLE","NO CUMPLE") -> CUMPLE
D84: =IF(B83="Ned-TRACCIÓN (kN)","","NRdy") -> NRdy | E84: =IF(B83="Ned-TRACCIÓN (kN)","",E71*I74/1000*G103) -> 85.405453 | G84: =IF(B83="Ned-TRACCIÓN (kN)","",IF(E84>=C83,"CUMPLE","NO CUMPLE")) -> CUMPLE | H84: FLEXIÓN Y AXIL. PIEZA | J84: =IF(B83="Ned-COMPRESIÓN (kN)",MAX((C83/MIN(E83:E84))+0.7*C85/E85+C86/E86,(C83/MIN(E83:E84))+C85/E85+0.7*C86/E86),MAX(C83/E83+0.7*C85/E85+C86/E86,C83/E83+C85/E85+0.7*C86/E86)) -> 0.036907636 | K84: =IF(J84<=1,"CUMPLE","NO CUMPLE") -> CUMPLE
B85: My,Ed (mkN) | C85: =$G$70*C40 -> 0.18426 | D85: MRdy (mkN) | E85: =IF(C95="SÍ",G95,E72*I71/1000000) -> 4.9924628 | F85: =C85/E85 -> 0.036907636 | G85: =IF(E85>=C85,"CUMPLE","NO CUMPLE") -> CUMPLE | H85: FLEXIÓN Y AXIL. SECCIÓN | J85: =IF(B83="Ned-COMPRESIÓN (kN)",MAX(((C83*1000/(C72*C73))/I74)^2+0.7*C85/E85+C86/E86,((C83*1000/(C72*C73))/I74)^2+C85/E85+0.7*C86/E86),MAX((C83*1000/(C72*C73))/I74+0.7*C85/E85+C86/E86,(C83*1000/(C72*C73))/I74+C85/E85+0.7*C86/E86)) -> 0.036907636 | K85: =IF(J85<=1,"CUMPLE","NO CUMPLE") -> CUMPLE
B86: Mz,Ed (mkN) | C86: =$G$70*C41 -> 0 | D86: MRdz (mkN) | E86: =E76*I71/1000000 -> 1.1225656 | F86: =C86/E86 -> 0 | G86: =IF(E86>=C86,"CUMPLE","NO CUMPLE") -> CUMPLE | H86: TRACCIÓN PERP. Y CORTANTE | J86: =C90/E90+C87/E87+C88/E88 -> 0.082339751 | K86: =IF(J86<=1,"CUMPLE","NO CUMPLE") -> CUMPLE
B87: Vz,Ed (kN) | C87: =$G$70*C42 -> 0.73704 | D87: VRdz (kN) | E87: =E75*C73*0.67*I76/1000 -> 8.9512052 | F87: =C87/E87 -> 0.082339751 | G87: =IF(E87>=C87,"CUMPLE","NO CUMPLE") -> CUMPLE | H87: COMPRESIÓN INCLINADA | J87: =(J88*1000/(C72*C73/SIN(J89*PI()/180)))*(I74*(SIN(J89*PI()/180)^2/I75+COS(J89*PI()/180)^2))/I74 -> 0 | K87: =IF(J87<=1,"CUMPLE","NO CUMPLE") -> CUMPLE
B88: Vy,Ed (kN) | C88: =$G$70*C43 -> 0 | D88: VRdy (kN) | E88: =E79*C72*0.67*I76/1000 -> 8.9512052 | F88: =C88/E88 -> 0 | G88: =IF(E88>=C88,"CUMPLE","NO CUMPLE") -> CUMPLE | H88: NEd,α (kN). COMPRESIÓN | J88: =G70*J43 -> 0
B89: TEd (mkN) | C89: =$G$70*C44 -> 0 | D89: TRd (mkN) | E89: =E80*I76*E81/1000000 -> 13.734634 | F89: =C89/E89 -> 0 | G89: =IF(E89>=C89,"CUMPLE","NO CUMPLE") -> CUMPLE | H89: α (º) | J89: =J44 -> 0.1
B90: NEd,90 (kN). TRACCIÓN PERPENDICULAR | C90: =$G$70*C45 -> 0 | D90: NT,Rd,90 (kN) | E90: =C72*C11*I73/1000 -> 3.496 | F90: =C90/E90 -> 0 | G90: =IF(E90>=C90,"CUMPLE","NO CUMPLE") -> CUMPLE
B91: NEd,90 (kN). COMPRESIÓN PERPENDICULAR | C91: =$G$70*C46 -> 0 | D91: NC,Rd,90 (kN) | E91: =E93*D94*I75/1000 -> 22.713075 | F91: =C91/E91 -> 0 | G91: =IF(E91>=C91,"CUMPLE","NO CUMPLE") -> CUMPLE
B92: l (mm) | C92: =C47 -> 50 | D92: lef (mm) | E92: =E47 -> 110
B93: l1 (mm) | C93: =C48 -> 500 | D93: Aef (mm2) | E93: =E92*C72 -> 4180
B94: kc,90 | C94: =C49 -> SOBRE APOYOS | D94: =D49 -> 1.75
B95: PANDEO LATERAL | C95: NO SE COMPRUEBA | D95: σcry (N/mm2) | E95: =PI()*(I78*MIN(E73,E77)*I80*E80)^0.5/(C96*C7*1000*MAX(E72,E76)) -> 74.404036 | F95: Mrdy (mkN) | G95: =E72*I71*G96/1000000 -> 4.9924628
B96: βv | C96: =C51 -> 1 | D96: λrel,m | E96: =(G71/E95)^0.5 -> 0.56794643 | F96: kcrit | G96: =MIN(1,IF(E96<=1.4,1.56-0.75*E96,1/E96^2)) -> 1
B97: LONGITUD DE PANDEO
B98: PANDEO EN Y | E98: PANDEO EN Z
B99: COACCIONES EN EXTREMOS | C99: ARTICULADO-ARTICULADO | E99: COACCIONES EN EXTREMOS | G99: ARTICULADO-ARTICULADO
B101: Lyk (m) | C101: =IF(C99="OTRO",K101,IF(C99="MÉNSULA",2*$C$7,IF(C99="ARTICULADO-ARTICULADO",$C$7,IF(C99="ARTICULADO-EMPOTRADO",0.7*$C$7,IF(C99="EMPOTRADO-EMPOTRADO",0.5*$C$7,""))))) -> 1 | E101: Lk (m) | G101: =IF(G99="OTRO",K102,IF(G99="MÉNSULA",2*$C$7,IF(G99="ARTICULADO-ARTICULADO",$C$7,IF(G99="ARTICULADO-EMPOTRADO",0.7*$C$7,IF(G99="EMPOTRADO-EMPOTRADO",0.5*$C$7,""))))) -> 1 | J101: Lyk (m) | K101: 0
B102: λyk | C102: =C101*1000/E74 -> 20.497643 | E102: λzk | G102: =G101*1000/E78 -> 91.160569 | J102: Lzk (m) | K102: 0
B103: χy | C103: =1/(C106+(C106^2-C105^2)^0.5) -> 0.99918014 | E103: χz | G103: =1/(G106+(G106^2-G105^2)^0.5) -> 0.48184373
...

Sheet DATOS MATERIAL
B5: N/mm2 | L5: kg/m3
B6: fm,g,k | C6: ft,0,g,k | D6: ft,90,g,k | E6: fc,0,g,k | F6: fc,90,g,k | G6: fv,g,k | H6: E0,g,medio | I6: E0,g,k | J6: E90,g,medio | K6: Gg,medio | L6: ρg,k
B7: fm,k | C7: ft,0,k | D7: ft,90,k | E7: fc,0,k | F7: fc,90,k | G7: fv,g,k | H7: E0,medio | I7: E0,k | J7: E90,medio | K7: Gmedio | L7: ρk | M7: ρmedio
A8: GL24h | B8: 24 | C8: 16.5 | D8: 0.4 | E8: 24 | F8: 2.7 | G8: 2.7 | H8: 11600 | I8: 9400 | J8: 390 | K8: 720 | L8: 380 | M8: 380
A9: GL28h | B9: 28 | C9: 19.5 | D9: 0.45 | E9: 26.5 | F9: 3 | G9: 3.2 | H9: 12600 | I9: 1020 | J9: 420 | K9: 780 | L9: 410 | M9: 410
A10: GL32h | B10: 32 | C10: 22.5 | D10: 0.5 | E10: 29 | F10: 3.3 | G10: 3.8 | H10: 13700 | I10: 11100 | J10: 460 | K10: 850 | L10: 430 | M10: 430
A11: GL36h | B11: 36 | C11: 26 | D11: 0.6 | E11: 31 | F11: 3.6 | G11: 4.3 | H11: 14700 | I11: 11900 | J11: 490 | K11: 910 | L11: 450 | M11: 450
A12: GL24c | B12: 24 | C12: 14 | D12: 0.35 | E12: 21 | F12: 2.4 | G12: 2.2 | H12: 11600 | I12: 9400 | J12: 320 | K12: 590 | L12: 350 | M12: 350
A13: GL28c | B13: 28 | C13: 16.5 | D13: 0.4 | E13: 24 | F13: 2.7 | G13: 2.7 | H13: 12600 | I13: 10200 | J13: 390 | K13: 720 | L13: 380 | M13: 380
A14: GL32c | B14: 32 | C14: 19.5 | D14: 0.45 | E14: 26.5 | F14: 3 | G14: 3.2 | H14: 13700 | I14: 11100 | J14: 420 | K14: 780 | L14: 410 | M14: 410
A15: GL36c | B15: 36 | C15: 22.5 | D15: 0.5 | E15: 29 | F15: 3.3 | G15: 3.8 | H15: 14700 | I15: 11900 | J15: 460 | K15: 850 | L15: 430 | M15: 430
A16: C14 | B16: 14 | C16: 8 | D16: 0.4 | E16: 16 | F16: 2 | G16: 3 | H16: 7000 | I16: 4700 | J16: 230 | K16: 440 | L16: 290 | M16: 350
A17: C16 | B17: 16 | C17: 10 | D17: 0.4 | E17: 17 | F17: 2.2 | G17: 3.2 | H17: 8000 | I17: 5400 | J17: 270 | K17: 500 | L17: 310 | M17: 370
A18: C18 | B18: 18 | C18: 11 | D18: 0.4 | E18: 18 | F18: 2.2 | G18: 3.4 | H18: 9000 | I18: 6000 | J18: 300 | K18: 560 | L18: 320 | M18: 380
A19: C20 | B19: 20 | C19: 12 | D19: 0.4 | E19: 19 | F19: 2.3 | G19: 3.6 | H19: 9500 | I19: 6400 | J19: 320 | K19: 590 | L19: 330 | M19: 390
... A35: D70 | B35: 70 | C35: 42 | D35: 0.6 | E35: 34 | F35: 13.5 | G35: 4 | H35: 20000 | I35: 16800 | J35: 1330 | K35: 1250 | L35: 900 | M35: 1080
C38: ASERRADA | D38: LAMINADA
B39: PERMANENTE1 | C39: 0.6 | D39: 0.6
B40: PERMANENTE2 | C40: 0.6 | D40: 0.6
B41: PERMANENTE3 | C41: 0.5 | D41: 0.5
B42: LARGA1 | C42: 0.7 | D42: 0.7
B43: LARGA2 | C43: 0.7 | D43: 0.7
B44: LARGA3 | C44: 0.55 | D44: 0.55
B45: MEDIA1 | C45: 0.8 | D45: 0.8
B46: MEDIA2 | C46: 0.8 | D46: 0.8
B47: MEDIA3 | C47: 0.65 | D47: 0.65
B48: CORTA1 | C48: 0.9 | D48: 0.9
B49: CORTA2 | C49: 0.9 | D49: 0.9
B50: CORTA3 | C50: 0.7 | D50: 0.7
... B53: INSTANTÁNEA3 | C53: 0.9 | D53: 0.9
A57: PERMANENTE
A58: LARGA
A59: MEDIA
A60: CORTA
A61: INSTANTÁNEA
